BEGIN:VCALENDAR
VERSION:2.0
METHOD:PUBLISH
PRODID:-//hacksw/handcal//NONSGML v1.0//EN
BEGIN:VEVENT
DTSTAMP:20260419T165140Z
DTSTART:20100227T133000Z
DTEND:20100227T160000Z
UID:20100227T133000Z-20100227T160000Z-8@www.runningsocks.de
SUMMARY:6. Forchheimer Kellerwald Crosslauf
DESCRIPTION:Wer läuft mit ? 1 - 4 Runden im Forchheimer Kellerwald. Ma
 l etwas anderes\, als das Annafest !\nLaufstrecken:\nWaldwege (befesti
 gt und unbefestigt) im Kellerwald\, ca. 40m Höhenunterschied je Runde.
 \nLauf 4   -   3460 m  2 mittlere                                     
          RundenStart 13.50 Uhr\nLauf 5   -   7950 m  4 große          
                                     RundenStart 14.30 Uhr\nVeranstalte
 r: LG Forchheim
X-ALT-DESC;FMTTYPE=text/html:<p style=text-align: justify\;>Wer läuft 
 mit ? 1 &#8211\; 4 Runden im Forchheimer Kellerwald. Mal etwas anderes
 \, als das Annafest !</p>\n<p style=text-align: justify\;>Laufstrecken
 :<br>\nWaldwege (befestigt und unbefestigt) im Kellerwald\, ca. 40m Hö
 henunterschied je Runde.</p>\n<p style=text-align: justify\;>Lauf 4   
 &#8211\;   3460 m  2 mittlere                                         
      RundenStart 13.50 Uhr</p>\n<p style=text-align: justify\;>Lauf 5 
   &#8211\;   7950 m  4 große                                          
     RundenStart 14.30 Uhr</p>\n<p style=text-align: justify\;>Veransta
 lter: <a href=http://www.lg-forchheim.de/kellerwald_cross.html target=
 _blank>LG Forchheim</a></p>\n
URL:https://www.runningsocks.de/wordpress/terminkalender/eventsinglepa
 ge/?event_id=8&lang=de
ATTACH:https://www.runningsocks.de/wordpress/terminkalender/eventsingl
 epage/?event_id=8&lang=de
LOCATION:Kellerwald\, Untere Keller\, Auf den Kellern\, Forchheim
END:VEVENT
END:VCALENDAR
