BEGIN:VCALENDAR
VERSION:2.0
METHOD:PUBLISH
PRODID:-//hacksw/handcal//NONSGML v1.0//EN
BEGIN:VEVENT
DTSTAMP:20260419T165351Z
DTSTART:20110507T150000Z
DTEND:20110507T170000Z
UID:20110507T150000Z-20110507T170000Z-81@www.runningsocks.de
SUMMARY:11. Happurger Stauseelauf
DESCRIPTION:400 Meter Vorschulkinder\n800 Meter Schülerinnen\n1.600 Me
 ter Schülerinnen\n3.400 Meter Hobbylauf Damen / Herren ohne Klassenwer
 tung\n10.000 Meter Hauptlauf mit Klassenwertung\n\nAusschreibung:\n\n[
 wpfilebase tag='file' id='429']\nWeitere Info's und Anmeldung beim Ver
 anstalter:  SC Happurg
X-ALT-DESC;FMTTYPE=text/html:<p>400 Meter Vorschulkinder<br>\n800 Mete
 r Schülerinnen<br>\n1.600 Meter Schülerinnen<br>\n3.400 Meter Hobbylau
 f Damen / Herren ohne Klassenwertung<br>\n10.000 Meter Hauptlauf mit K
 lassenwertung</p>\n<p>Ausschreibung:</p>\n<p>[wpfilebase tag=&#8217\;f
 ile&#8216\; id=&#8217\;429&#8242\;]</p>\n<p style=text-align: justify\
 ;>Weitere Info&#8217\;s und Anmeldung beim Veranstalter:  <a href=http
 ://www.sc-happurg.de/stauseelauf.php target=_blank>SC Happurg</a></p>\
 n
URL:https://www.runningsocks.de/wordpress/terminkalender/eventsinglepa
 ge/?event_id=81&lang=de
ATTACH:https://www.runningsocks.de/wordpress/terminkalender/eventsingl
 epage/?event_id=81&lang=de
LOCATION:Happurger See\, Seepromenade 1\, Happurg
END:VEVENT
END:VCALENDAR
