BEGIN:VCALENDAR
VERSION:2.0
METHOD:PUBLISH
PRODID:-//hacksw/handcal//NONSGML v1.0//EN
BEGIN:VEVENT
DTSTAMP:20260419T165212Z
DTSTART:20110709T050000Z
DTEND:20110709T141500Z
UID:20110709T050000Z-20110709T141500Z-82@www.runningsocks.de
SUMMARY:12. Landkreislauf Nürnberger land
DESCRIPTION:Am 09. Juli findet findet der Landkreislauf Nürnberger Lan
 d zum 12. mal  statt. Er hat sich als eines der größten Events im Land
 kreis         etabliert. Und er ist weiterhin modern und entwickelt si
 ch  weiter.\n\nHier die Streckenabschnitte (10Abschnitte\, ca. 56\,4Km
 ):\n\n\n\nNr.\nVon\nNach\nkm\nStartzeit\n\nStand\n\n\n1\nSee\nWaller\n
 4\,6\n07:00\n\n03.03.2011\n\n\n2\nWaller (NW)\nEismannsberg\n8\,6\n07:
 45\n\n03.03.2011\n\n\n3\nEismannsberg\nBreitenbrunn\n6\,2\n09:20\n\n03
 .03.2011\n\n\n4\nBreitenbrunn (NW)\nKucha\n3\,8\n10:20\n\n03.03.2011\n
 \n\n5\nKucha\nOffenhausen\n5\,7\n11:00\n\n14.03.2011\n\n\n6\nOffenhaus
 en (NW)\nEngelthal\n4\,4\n12:00\n\n03.03.2011\n\n\n7\nEngelthal (NW)\n
 Henfenfeld\n5\,4\n13:00\n\n14.03.2011\n\n\n8\nHenfenfeld\nAltensittenb
 ach\n4\,1\n14:00\n\n03.03.2011\n\n\n9\nAltensittenbach\nSpeikern\n6\,8
 \n14:40\n\n03.03.2011\n\n\n10\nSpeikern (NW)\nSchnaittach\n6\,7\n15:45
 \n\n16.03.2011\n\n\n\nÄnderungen vorbehalten. Ankunft am Festplatz Fre
 iröttenbach ab ca. 16:15 Uhr. Bitte beachten Sie eventuelle Änderungen
  der Strecken: !! Aktuelles !!\n\nStrecken jetzt auch in OpenStreetMap
 \n\nHeuer wurden die Strecken auch in OpenStreetMap hinterlegt. http:/
 /wiki.openstreetmap.org/wiki/Landkreislauf_Nbg_Land Ein Danke ergeht a
 n Frank März aus Schnaittach. (Angaben ohne Gewähr).\n\nAlle weiteren 
 Infos auf de Seite des Veranstalters: Landkreislauf Nürnberger Land
X-ALT-DESC;FMTTYPE=text/html:<p>Am 09. Juli findet findet der Landkrei
 slauf Nürnberger Land zum 12. mal  statt. Er hat sich als eines der gr
 ößten Events im Landkreis         etabliert. Und er ist weiterhin mode
 rn und entwickelt sich  weiter.</p>\n<p>Hier die Streckenabschnitte (1
 0Abschnitte\, ca. 56\,4Km):</p>\n<table style=border: 2px solid #b0c4d
 e\; border=2 frame=border rules=all align=center>\n<tbody>\n<tr><td><s
 pan style=font-size: small\;>Nr.</span></td>\n<td>Von</td>\n<td>Nach</
 td>\n<td>km</td>\n<td>Startzeit</td>\n<td></td>\n<td>Stand</td></tr>\n
 <tr><td>1</td>\n<td>See</td>\n<td>Waller</td>\n<td>4\,6</td>\n<td>07:0
 0</td>\n<td></td>\n<td>03.03.2011</td></tr>\n<tr><td>2</td>\n<td>Walle
 r (NW)</td>\n<td>Eismannsberg</td>\n<td>8\,6</td>\n<td>07:45</td>\n<td
 ></td>\n<td>03.03.2011</td></tr>\n<tr><td>3</td>\n<td>Eismannsberg</td
 >\n<td>Breitenbrunn</td>\n<td>6\,2</td>\n<td>09:20</td>\n<td></td>\n<t
 d>03.03.2011</td></tr>\n<tr><td>4</td>\n<td>Breitenbrunn (NW)</td>\n<t
 d>Kucha</td>\n<td>3\,8</td>\n<td>10:20</td>\n<td></td>\n<td>03.03.2011
 </td></tr>\n<tr><td>5</td>\n<td>Kucha</td>\n<td>Offenhausen</td>\n<td>
 5\,7</td>\n<td>11:00</td>\n<td></td>\n<td>14.03.2011</td></tr>\n<tr><t
 d>6</td>\n<td>Offenhausen (NW)</td>\n<td>Engelthal</td>\n<td>4\,4</td>
 \n<td>12:00</td>\n<td></td>\n<td>03.03.2011</td></tr>\n<tr><td>7</td>\
 n<td>Engelthal (NW)</td>\n<td>Henfenfeld</td>\n<td>5\,4</td>\n<td>13:0
 0</td>\n<td></td>\n<td>14.03.2011</td></tr>\n<tr><td>8</td>\n<td>Henfe
 nfeld</td>\n<td>Altensittenbach</td>\n<td>4\,1</td>\n<td>14:00</td>\n<
 td></td>\n<td>03.03.2011</td></tr>\n<tr><td>9</td>\n<td>Altensittenbac
 h</td>\n<td>Speikern</td>\n<td>6\,8</td>\n<td>14:40</td>\n<td></td>\n<
 td>03.03.2011</td></tr>\n<tr><td>10</td>\n<td>Speikern (NW)</td>\n<td>
 Schnaittach</td>\n<td>6\,7</td>\n<td>15:45</td>\n<td></td>\n<td>16.03.
 2011</td></tr>\n</tbody>\n</table>\n<p>Änderungen vorbehalten. Ankunft
  am Festplatz Freiröttenbach ab ca. 16:15 Uhr. Bitte beachten Sie even
 tuelle Änderungen der Strecken: <a href=http://www.landkreislauf.de/in
 dex.php?mod=strecken target=_blank>!! Aktuelles !!</a></p>\n<p><strong
 >Strecken jetzt auch in <span style=font-family: Calibri\;>OpenStreetM
 ap</span></strong><br>\n<br>\nHeuer wurden die Strecken auch in OpenSt
 reetMap hinterlegt. <a href=http://wiki.openstreetmap.org/wiki/Landkre
 islauf_Nbg_Land target=_blank><span style=text-decoration: underline\;
 ><span style=color: #800080\; font-size: small\;>http://wiki.openstree
 tmap.org/wiki/Landkreislauf_Nbg_Land</span></span></a> Ein Danke ergeh
 t an Frank März aus Schnaittach. (Angaben ohne Gewähr).</p>\n<p>Alle w
 eiteren Infos auf de Seite des Veranstalters: <a href=http://www.landk
 reislauf.de/index.php target=_blank>Landkreislauf Nürnberger Land</a><
 /p>\n
URL:https://www.runningsocks.de/wordpress/terminkalender/eventsinglepa
 ge/?event_id=82&lang=de
ATTACH:https://www.runningsocks.de/wordpress/terminkalender/eventsingl
 epage/?event_id=82&lang=de
LOCATION:Start 1. Etappe\, 12. Landkreislauf Nbg. Land\, See\, See För
 renbach
END:VEVENT
END:VCALENDAR
