BEGIN:VCALENDAR
VERSION:2.0
METHOD:PUBLISH
PRODID:-//hacksw/handcal//NONSGML v1.0//EN
BEGIN:VEVENT
DTSTAMP:20260419T165315Z
DTSTART:20110611T140000Z
DTEND:20110611T153000Z
UID:20110611T140000Z-20110611T153000Z-83@www.runningsocks.de
SUMMARY:10. Leinburger KIRWA Lauf
DESCRIPTION:Hiermit  möchte ich heute schon auf den Kirwalauf in Leinb
 urg aufmerksam machen. Er findet wie jedes Jahr am Pfingstsamstag stat
 t\, der heuer auf den 11. Juni fällt.\n\nDie Anmeldung ist ab sofort m
 öglich. Der Schülerlauf wird auf einer neuen Streckenführung (3 x die 
 Runde des Kinderlaufs) durchgeführt und auf 1\,5 km verkürzt. Weitere 
 und aktuelle Informationen werdet Ihr in den nächsten Wochen auf der H
 omepage TV-Leinburg finden.\n\nAusschreibung:\n\n[wpfilebase tag=file 
 id=439]\n\nStart & Ziel:\n\nBrauereihof Bub / Leinburg\n\nLäufe und St
 artzeiten:\n\n	Kinderlauf 500 m Start: 15:00\n	Schülerlauf 2 km Start:
  15:30\n	Hauptlauf 10 km Start: 16:00\n	Hobbylauf 5 km Start: 16:10\n	
  Nordic-Walking-Lauf 5 km Start: 16:10\n\nStartgeld:\nKinder-/ Schüler
 lauf      2\,00 EUR (€ 2 Nachmeldegebühr nach 10.06.11)\nKirwalauf / N
 ordic-Walking  8\,00 EUR (€ 2 Nachmeldegebühr nach 10.06.11)\n\nStartn
 ummernausgabe:\n14:00  – 15:00 Uhr im Brauereihof\nSiegerehrung:\nca. 
 18:00 Uhr im Brauereihof\n\nAnmeldung  bis  10. Juni 2011 - 19:00 Uhr 
 bei \nFranz Stieglbauer\nBachgasse 7\n91227 Leinburg\nFon:        0912
 0 / 6829\neMail:     jugendbeauftragter.leinburg@gmx.de\n\nUnd danach 
 noch ein Bierchen im Brauereihof
X-ALT-DESC;FMTTYPE=text/html:<p>Hiermit  möchte ich heute schon auf de
 n Kirwalauf in Leinburg aufmerksam machen. Er findet wie jedes Jahr am
  Pfingstsamstag statt\, der heuer auf den 11. Juni fällt.</p>\n<p>Die 
 Anmeldung ist ab sofort möglich. Der Schülerlauf wird auf einer neuen 
 Streckenführung (3 x die Runde des Kinderlaufs) durchgeführt und auf 1
 \,5 km verkürzt. Weitere und aktuelle Informationen werdet Ihr in den 
 nächsten Wochen auf der Homepage <a href=http://www.tvleinburg.de/skia
 bteilung/ target=_blank>TV-Leinburg</a> finden.</p>\n<p><strong>Aussch
 reibung:</strong><br>\n<br>\n[wpfilebase tag=file id=439]</p>\n<p><str
 ong>Start &amp\; Ziel:</strong><br>\n<br>\nBrauereihof Bub / Leinburg<
 /p>\n<p><strong>Läufe und Startzeiten:</strong></p>\n<ul>\n<li>Kinderl
 auf 500 m Start: 15:00</li>\n<li>Schülerlauf 2 km Start: 15:30</li>\n<
 li>Hauptlauf 10 km Start: 16:00</li>\n<li>Hobbylauf 5 km Start: 16:10<
 /li>\n<li> <span style=text-decoration: underline\;>Nordic-Walking-Lau
 f 5 km Start: 16:10</span></li>\n</ul>\n<p><strong>Startgeld:</strong>
 <br>\nKinder-/ Schülerlauf      2\,00 EUR (€ 2 Nachmeldegebühr nach 10
 .06.11)<br>\nKirwalauf / Nordic-Walking  8\,00 EUR (€ 2 Nachmeldegebüh
 r nach 10.06.11)</p>\n<p><strong>Startnummernausgabe:</strong><br>\n14
 :00  – 15:00 Uhr im Brauereihof<br>\nSiegerehrung:<br>\nca. 18:00 Uhr 
 im Brauereihof</p>\n<p><strong>Anmeldung  bis  10. Juni 2011 &#8211\; 
 19:00 Uhr bei </strong><br>\nFranz Stieglbauer<br>\nBachgasse 7<br>\n9
 1227 Leinburg<br>\nFon:        09120 / 6829<br>\neMail:     jugendbeau
 ftragter.leinburg@gmx.de</p>\n<p>Und danach noch ein Bierchen im <a hr
 ef=http://www.leinburger-bier.de/ target=_blank>Brauereihof</a></p>\n
URL:https://www.runningsocks.de/wordpress/terminkalender/eventsinglepa
 ge/?event_id=83&lang=de
ATTACH:https://www.runningsocks.de/wordpress/terminkalender/eventsingl
 epage/?event_id=83&lang=de
LOCATION:Brauereihof Bub\, Marktplatz 14\, Leinburg
END:VEVENT
END:VCALENDAR
