BEGIN:VCALENDAR
VERSION:2.0
METHOD:PUBLISH
PRODID:-//hacksw/handcal//NONSGML v1.0//EN
BEGIN:VEVENT
DTSTAMP:20260419T165139Z
DTSTART:20110609T230000Z
DTEND:20110613T230000Z
UID:20110609T230000Z-20110613T230000Z-84@www.runningsocks.de
SUMMARY:Laufamholzer Kirchweih
DESCRIPTION:Unser traditionelles Kirchweihfest findet jedes Jahr an Pf
 ingsten statt. 	  An den fünf Tagen spielen bekannte und interessante	
 Bands. 	  So werden uns die Gipfelstürmer\, Arrows\, Chains und noch v
 iele andere  musikalisch unterhalten.\n\nWeitere Infos und Kirchweihpr
 ogramm auf der Seite des Vorstadtvereins Laufamholz.
X-ALT-DESC;FMTTYPE=text/html:<p>Unser traditionelles Kirchweihfest fin
 det jedes Jahr an Pfingsten statt. 	  An den fünf Tagen spielen bekann
 te und interessante	Bands. 	  So werden uns die Gipfelstürmer\, Arrows
 \, Chains und noch viele andere  musikalisch unterhalten.</p>\n<p>Weit
 ere Infos und Kirchweihprogramm auf der Seite des <a href=http://www.l
 aufamholz.info/Veranstaltungen/Kirchweih/Kirchweih.shtml target=_blank
 >Vorstadtvereins Laufamholz</a>.</p>\n
URL:https://www.runningsocks.de/wordpress/terminkalender/eventsinglepa
 ge/?event_id=84&lang=de
ATTACH:https://www.runningsocks.de/wordpress/terminkalender/eventsingl
 epage/?event_id=84&lang=de
LOCATION:Kirchweihplatz Laufamholz\, Moritzbergstraße 75\, Nürnberg
END:VEVENT
END:VCALENDAR
