BEGIN:VCALENDAR
VERSION:2.0
METHOD:PUBLISH
PRODID:-//hacksw/handcal//NONSGML v1.0//EN
BEGIN:VEVENT
DTSTAMP:20260419T165140Z
DTSTART:20110622T153000Z
DTEND:20110626T210000Z
UID:20110622T153000Z-20110626T210000Z-85@www.runningsocks.de
SUMMARY:14. Fränkisches Bierfest - Nürnberg
DESCRIPTION:Das 14. Fränkische Bierfest in Nürnberg bietet wieder die 
 einmalige  Möglichkeit\, über 110 Sorten Bier im romantischen Burggrab
 en unterhalb  der Kaiserburg zu probieren. Das Angebot der 32 teilnehm
 enden Brauereien  aus Franken und dem Umland sowie die vielen Essensst
 ände mit  fränkischen Spezialitäten lassen keine kulinarischen Wünsche
  offen.\n\nÖffnungszeiten\nMittwoch: 17.00 - 23.00 Uhr\nDonnerstag: 11
 .00 - 23.00 Uhr\nFreitag: 14.00 - 23.00 Uhr\nSamstag: 12.00 - 23.00 Uh
 r\nSonntag: 11.00 - 23.00 Uhr\n\nTeilnehmende Brauereien:\n\n	\n	\n\n 
 \n\nWeitere Infos bei: Tourismus Nürnberg oder www.frankenradar.de
X-ALT-DESC;FMTTYPE=text/html:<p>Das 14. Fränkische Bierfest in Nürnber
 g bietet wieder die einmalige  Möglichkeit\, über 110 Sorten Bier im r
 omantischen Burggraben unterhalb  der Kaiserburg zu probieren. Das Ang
 ebot der 32 teilnehmenden Brauereien  aus Franken und dem Umland sowie
  die vielen Essensstände mit  fränkischen Spezialitäten lassen keine k
 ulinarischen Wünsche offen.</p>\n<p><strong></strong><strong>Öffnungsz
 eiten</strong><br>\nMittwoch: 17.00 &#8211\; 23.00 Uhr<br>\nDonnerstag
 : 11.00 &#8211\; 23.00 Uhr<br>\nFreitag: 14.00 &#8211\; 23.00 Uhr<br>\
 nSamstag: 12.00 &#8211\; 23.00 Uhr<br>\nSonntag: 11.00 &#8211\; 23.00 
 Uhr</p>\n<p><strong>Teilnehmende Brauereien:</strong></p>\n<ul>\n<li><
 /li>\n<li></li>\n</ul>\n<p>&nbsp\;</p>\n<p>Weitere Infos bei: <a href=
 http://www.tourismus.nuernberg.de/v04/pub/index.html?navID=de37&amp\;p
 oolID=&amp\;listID=1551&amp\;IDS=3A7sw8Zl&amp\;hl=1 target=_blank>Tour
 ismus Nürnberg</a> oder <a href=http://www.frankenradar.de/events/frae
 nkisches-bierfest-nuernberg target=_blank>www.frankenradar.de</a></p>\
 n
URL:https://www.runningsocks.de/wordpress/terminkalender/eventsinglepa
 ge/?event_id=85&lang=de
ATTACH:https://www.runningsocks.de/wordpress/terminkalender/eventsingl
 epage/?event_id=85&lang=de
LOCATION:Burggraben unterhalb der Kaiserburg\, Auf der Burg 13\, Nürnb
 erg
END:VEVENT
END:VCALENDAR
