BEGIN:VCALENDAR
VERSION:2.0
METHOD:PUBLISH
PRODID:-//hacksw/handcal//NONSGML v1.0//EN
BEGIN:VEVENT
DTSTAMP:20260419T165210Z
DTSTART:20110625T070000Z
DTEND:20110625T190000Z
UID:20110625T070000Z-20110625T190000Z-86@www.runningsocks.de
SUMMARY:12 Stunden MTB Rennen
DESCRIPTION:12 Stunden auf dem Mountainbike!\n \n\nAls Einzelfahrer od
 er im Team! Egal ob Profi oder ambitionierte  Breitensportler - Der Sp
 aßfaktor steht im Vordergrund. Auf einem  abgesteckten Rundkurs fahren
  die Mountainbikerinnen und Mountainbiker  innerhalb von 12 Stunden mö
 glichst viele Runden. Wer am meisten Runden  schafft ist Sieger.\n\nDi
 e jährlich steigenden Teilnehmerzahlen beweisen es - diese Art von  Mo
 untainbike Rennen wird immer beliebter. Auch einige Fahrer des RC  Sch
 naittachtal nehmen jährlich an 12 und 24 Stunden MTB Rennen  erfolgrei
 ch teil und so fanden wir es an der Zeit auch bei uns in  Schnaittach 
 im Nürnberger Land ein 12-Stunden-Mountainbike-Rennen zu  veranstalten
 .\n\nWir laden alle Hobbybiker und Profibiker\, sowie alle Sportbegeis
 terte zu  diesem Event ein.\nWeitere Infos und Online Anmeldung beim V
 eranstalter: Radclub Schnaittachtal e.V.
X-ALT-DESC;FMTTYPE=text/html:<p><span style=font-size: x-small\;> </sp
 an></p>\n<h3>12 Stunden auf dem Mountainbike!</h3>\n<p>&nbsp\;</p>\n<p
 >Als Einzelfahrer oder im Team! Egal ob &#8222\;Profi&#8220\; oder amb
 itionierte  Breitensportler &#8211\; Der Spaßfaktor steht im Vordergru
 nd. Auf einem  abgesteckten Rundkurs fahren die Mountainbikerinnen und
  Mountainbiker  innerhalb von 12 Stunden möglichst viele Runden. Wer a
 m meisten Runden  schafft ist Sieger.</p>\n<p>Die jährlich steigenden 
 Teilnehmerzahlen beweisen es &#8211\; diese Art von  Mountainbike Renn
 en wird immer beliebter. Auch einige Fahrer des RC  Schnaittachtal neh
 men jährlich an 12 und 24 Stunden MTB Rennen  erfolgreich teil und so 
 fanden wir es an der Zeit auch bei uns in  Schnaittach im Nürnberger L
 and ein 12-Stunden-Mountainbike-Rennen zu  veranstalten.</p>\n<p>Wir l
 aden alle Hobbybiker und Profibiker\, sowie alle Sportbegeisterte zu  
 diesem Event ein.</p>\n<p style=text-align: justify\;>Weitere Infos un
 d Online Anmeldung beim Veranstalter: <a href=http://www.12h-rc-schnai
 ttachtal.de/cms/website.php target=_blank>Radclub Schnaittachtal e.V.<
 /a></p>\n
URL:https://www.runningsocks.de/wordpress/terminkalender/eventsinglepa
 ge/?event_id=86&lang=de
ATTACH:https://www.runningsocks.de/wordpress/terminkalender/eventsingl
 epage/?event_id=86&lang=de
LOCATION:An der Alle / Badstraße\, Badstraße 4\, Schnaittach
END:VEVENT
END:VCALENDAR
