BEGIN:VCALENDAR
VERSION:2.0
METHOD:PUBLISH
PRODID:-//hacksw/handcal//NONSGML v1.0//EN
BEGIN:VEVENT
DTSTAMP:20260419T165230Z
DTSTART:20110904T070000Z
DTEND:20110904T130000Z
UID:20110904T070000Z-20110904T130000Z-87@www.runningsocks.de
SUMMARY:12. Fränkische Schweiz Marathon
DESCRIPTION:Erleben Sie....\n\n... einen der schönsten und  schnellste
 n Landschaftsmarathons in Deutschland. Die landschaftliche  Idylle der
  Fränkischen Schweiz bietet eine einzigartige Kulisse für  tausende sp
 ortbegeisterte LäuferInnen und SkaterInnen. Die Strecke führt  auf der
  autofreien Bundesstraße 470 durch das Herz der Fränkischen  Schweiz u
 nd gewährleistet optimale Rahmenbedingungen für alle  teilnehmenden Sp
 ortler. Zehntausende von Zuschauern und ein buntes  Rahmenprogramm ent
 lang der Strecke verleihen der Veranstaltung jährlich  Volksfestcharak
 ter.\n\nStart:\n\nSonntag\, 4. September 2011 - Forchheim\, Paradeplat
 z\n\n\n\nHandbike\n08.40 Uhr\n\n\nSpeed-Skating (mit Startpass)\n08.45
  Uhr\n\n\nFitness-Skating\n08.50 Uhr\n\n\nMarathon\, Team-Marathon\, 1
 6 km-Lauf\n09.00 Uhr\n\n\nZielschluss - Ebermannstadt\, B 470 Ortsmitt
 e\n14.00 Uhr\n\n\n\nSamstag\, 3. September 2011 - Ebermannstadt\, Mark
 tplatz\n\n\n\nSparkassen Bambinilauf / Schülerlauf\nca. 14.30 Uhr\n\n\
 n1/10 Marathon (4\,2 km)\nca. 15.30 Uhr\n\n\n\nWeitere Info's und Onli
 ne-Anmeldung beim Veranstalter: Fränkische Schweiz Marathon
X-ALT-DESC;FMTTYPE=text/html:<p><span style=font-size: medium\;><stron
 g>Erleben Sie</strong></span>&#8230\;.</p>\n<p>&#8230\; einen der schö
 nsten und  schnellsten Landschaftsmarathons in Deutschland. Die landsc
 haftliche  Idylle der Fränkischen Schweiz bietet eine einzigartige Kul
 isse für  tausende sportbegeisterte LäuferInnen und SkaterInnen. Die S
 trecke führt  auf der autofreien Bundesstraße 470 durch das Herz der F
 ränkischen  Schweiz und gewährleistet optimale Rahmenbedingungen für a
 lle  teilnehmenden Sportler. Zehntausende von Zuschauern und ein bunte
 s  Rahmenprogramm entlang der Strecke verleihen der Veranstaltung jähr
 lich  Volksfestcharakter.</p>\n<p><span style=text-decoration: underli
 ne\;><strong><span style=font-size: small\;><span style=font-family: a
 rial\,helvetica\,sans-serif\;>Start:</span></span></strong></span><br>
 \n<br>\nSonntag\, 4. September 2011 &#8211\; Forchheim\, Paradeplatz</
 p>\n<table border=0>\n<tbody>\n<tr><td>Handbike</td>\n<td>08.40 Uhr</t
 d></tr>\n<tr><td>Speed-Skating (mit Startpass)</td>\n<td>08.45 Uhr</td
 ></tr>\n<tr><td>Fitness-Skating</td>\n<td>08.50 Uhr</td></tr>\n<tr><td
 >Marathon\, Team-Marathon\, 16 km-Lauf</td>\n<td>09.00 Uhr</td></tr>\n
 <tr><td>Zielschluss &#8211\; Ebermannstadt\, B 470 Ortsmitte</td>\n<td
 >14.00 Uhr</td></tr>\n</tbody>\n</table>\n<p>Samstag\, 3. September 20
 11 &#8211\; Ebermannstadt\, Marktplatz</p>\n<table border=0>\n<tbody>\
 n<tr><td>Sparkassen Bambinilauf / Schülerlauf</td>\n<td>ca. 14.30 Uhr<
 /td></tr>\n<tr><td>1/10 Marathon (4\,2 km)</td>\n<td>ca. 15.30 Uhr</td
 ></tr>\n</tbody>\n</table>\n<p>Weitere Info&#8217\;s und Online-Anmeld
 ung beim Veranstalter: <a href=http://www.fs-marathon.de target=_blank
 >Fränkische Schweiz Marathon</a></p>\n
URL:https://www.runningsocks.de/wordpress/terminkalender/eventsinglepa
 ge/?event_id=87&lang=de
ATTACH:https://www.runningsocks.de/wordpress/terminkalender/eventsingl
 epage/?event_id=87&lang=de
LOCATION:Paradeplatz Forchheim\, Paradeplatz\, Forchheim
END:VEVENT
END:VCALENDAR
