BEGIN:VCALENDAR
VERSION:2.0
METHOD:PUBLISH
PRODID:-//hacksw/handcal//NONSGML v1.0//EN
BEGIN:VEVENT
DTSTAMP:20260419T165313Z
DTSTART:20110918T070000Z
DTEND:20110918T140000Z
UID:20110918T070000Z-20110918T140000Z-88@www.runningsocks.de
SUMMARY:Seenlandmarathon
DESCRIPTION:Das neue Laufevent in der Region Altmühlfranken heißt Seen
 landmarathon.\n\nMarathon ist Breitensport in Deutschland. Die Region 
 Altmühlfranken und  das Fränkische Seenland mit seiner wunderschönen g
 ewachsenen  Kulturlandschaft mit Seen\, Wäldern und sanften Hügeln ist
  wie geschaffen  für diesen Sport. Der Seenlandmarathon 2011 als Nachf
 olger des  beliebten Brombachseemarathons wird das sportliche Highligh
 t in der  Region.\n\nStrecken:\n\nMarathon:\nBei Anmeldung bis 31. Mai
  2011: 25\,-€\nBei Anmeldung bis 15. Juli 2011: 30\,-€\nBei Anmeldung 
 bis 04. September 2011: 35\,-€\n\nMarathon -  Hobby-Staffel:\nBei Anme
 ldung bis 31. Mai 2011: 50\,-€ pro Staffel\nBei Anmeldung bis 15. Juli
  2011: 55\,-€ pro Staffel\nBei Anmeldung bis 04. September 2011: 60\,-
 € pro Staffel\n\nMarathon - Firmen-Staffel:\nBei Anmeldung bis 31. Mai
  2011: 150\,-€ pro Staffel\nBei Anmeldung bis 15. Juli: 180\,-€ pro St
 affel\nBei Anmeldung bis 04. September 2011: 200\,-€ pro Staffel\n\nHa
 lbmarathon:\nBei Anmeldung bis 31. Mai 2011: 20\,-€\nBei Anmeldung bis
  15. Juli 2011: 25\,-€\nBei Anmeldung bis 04. September 2011: 30\,-€\n
 \nWalking 21\,1Km:\nBei Anmeldung bis 31. Mai 2011: 18\,-€\nBei Anmeld
 ung bis 15. Juli 2011: 20\,-€\nBei Anmeldung bis 04. September 2011: 2
 5\,-€\n\nZeitplan:\n\nab 6.30 Uhr: Startunterlagen-Ausgabe bis jeweils
  eine Stunde vor dem Start des jeweiligen Laufes\n8.00-16.00 Uhr: Spor
 tmesse am Pleinfelder Sportpark\n9.00 Uhr Start Marathon am Pleinfelde
 r Sportpark\n9.15 Uhr Start Marathon-Staffeln am Pleinfelder Sportpark
 \n11.00 Uhr Start Halbmarathon am Pleinfelder Sportpark\n11.15 Uhr Sta
 rt Walking am Pleinfelder Sportpark\n15.00 Uhr Siegerehrung (Reihenfol
 ge: Marathon\, Marathon-Staffeln\, Halbmarathon)\n\nAktuelle Infos\, O
 nlineanmeldung\, sowie weitere Details beim Veranstalter: Seenlandmara
 thon
X-ALT-DESC;FMTTYPE=text/html:<p>Das neue Laufevent in der Region Altmü
 hlfranken heißt <strong><span style=font-size: medium\;>Seenlandmarath
 on</span></strong>.</p>\n<p>Marathon ist Breitensport in Deutschland. 
 Die Region Altmühlfranken und  das Fränkische Seenland mit seiner wund
 erschönen gewachsenen  Kulturlandschaft mit Seen\, Wäldern und sanften
  Hügeln ist wie geschaffen  für diesen Sport. Der Seenlandmarathon 201
 1 als Nachfolger des  beliebten Brombachseemarathons wird das sportlic
 he Highlight in der  Region.</p>\n<p><span style=text-decoration: unde
 rline\;><strong>Strecken:</strong></span></p>\n<p><strong>Marathon:</s
 trong><br>\nBei Anmeldung bis 31. Mai 2011: 25\,-€<br>\nBei Anmeldung 
 bis 15. Juli 2011: 30\,-€<br>\nBei Anmeldung bis 04. September 2011: 3
 5\,-€</p>\n<p><strong>Marathon &#8211\;  <em>Hobby-Staffel</em>:</stro
 ng><br>\nBei Anmeldung bis 31. Mai 2011: 50\,-€ pro Staffel<br>\nBei A
 nmeldung bis 15. Juli 2011: 55\,-€ pro Staffel<br>\nBei Anmeldung bis 
 04. September 2011: 60\,-€ pro Staffel</p>\n<p><strong>Marathon &#8211
 \;</strong> <em><strong>Firmen-Staffel</strong></em>:<br>\nBei Anmeldu
 ng bis 31. Mai 2011: 150\,-€ pro Staffel<br>\nBei Anmeldung bis 15. Ju
 li: 180\,-€ pro Staffel<br>\nBei Anmeldung bis 04. September 2011: 200
 \,-€ pro Staffel</p>\n<p><strong>Halbmarathon:</strong><br>\nBei Anmel
 dung bis 31. Mai 2011: 20\,-€<br>\nBei Anmeldung bis 15. Juli 2011: 25
 \,-€<br>\nBei Anmeldung bis 04. September 2011: 30\,-€</p>\n<p><strong
 >Walking 21\,1Km:</strong><br>\nBei Anmeldung bis 31. Mai 2011: 18\,-€
 <br>\nBei Anmeldung bis 15. Juli 2011: 20\,-€<br>\nBei Anmeldung bis 0
 4. September 2011: 25\,-€</p>\n<p><span style=text-decoration: underli
 ne\;><strong>Zeitplan:</strong></span><br>\n<br>\nab 6.30 Uhr: Startun
 terlagen-Ausgabe bis jeweils eine Stunde vor dem Start des jeweiligen 
 Laufes<br>\n8.00-16.00 Uhr: Sportmesse am Pleinfelder Sportpark<br>\n9
 .00 Uhr Start Marathon am Pleinfelder Sportpark<br>\n9.15 Uhr Start Ma
 rathon-Staffeln am Pleinfelder Sportpark<br>\n11.00 Uhr Start Halbmara
 thon am Pleinfelder Sportpark<br>\n11.15 Uhr Start Walking am Pleinfel
 der Sportpark<br>\n15.00 Uhr Siegerehrung (Reihenfolge: Marathon\, Mar
 athon-Staffeln\, Halbmarathon)</p>\n<p>Aktuelle Infos\, Onlineanmeldun
 g\, sowie weitere Details beim Veranstalter: <a href=http://www.seenla
 ndmarathon.org/ target=_blank>Seenlandmarathon</a></p>\n
URL:https://www.runningsocks.de/wordpress/terminkalender/eventsinglepa
 ge/?event_id=88&lang=de
ATTACH:https://www.runningsocks.de/wordpress/terminkalender/eventsingl
 epage/?event_id=88&lang=de
LOCATION:Sportpark-Pleinfeld\, Sportpark\, Pleinfeld
END:VEVENT
END:VCALENDAR
