BEGIN:VCALENDAR
VERSION:2.0
METHOD:PUBLISH
PRODID:-//hacksw/handcal//NONSGML v1.0//EN
BEGIN:VEVENT
DTSTAMP:20260419T165141Z
DTSTART:20100711T073000Z
DTEND:20100711T110000Z
UID:20100711T073000Z-20100711T110000Z-9@www.runningsocks.de
SUMMARY:1. Highwayman Triathlon
DESCRIPTION:Der  TV  Fürth 1860 lädt am 11.  Juli zum\nHighwayman  ein
 \n\nMit rund  zwanzig Veranstaltungen\, verteilt über das ganze Jahr 2
 010\,   feiert der  TV Fürth 1860 e.V. sein 150jähriges Bestehen. Die 
  Bandbreite  reicht  dabei vom Judo-Wettkampf über ein Sportfest für d
 ie  ganze Familie  bis  zu Tennis-Turnieren\, und mit dem  Highwayman-
 Triathlon am 11. Juli   bekommt auch der Ausdauersport  einen Ehrenpla
 tz im Jubiläumsjahr des   größten und ältesten Fürther  Sportvereins.\
 n\nEingeladen sind   Hobby-Sportler und Anfänger ebenso wie  ambitioni
 erte Triathleten\,   dementsprechend werden zwei unterschiedlich  lang
 e Wettbewerbe angeboten:   Die klassische Olympische Distanz mit  1\,5
  km Schwimmen\, 40 km  Radfahren  und 10 km Laufen\, und die  einsteig
 erfreundliche  Jedermann-Distanz mit  750 m Schwimmen\, 20 km  Radfahr
 en und 5 km  Laufen.\n\nIm  Mittelpunkt des Geschehens steht das Verei
 nsgelände  des TV  Fürth\, das sich  aufgrund der Lage in unmittelbare
 r Nähe zu  Stadtwald\,   Rhein-Main-Donau-Kanal und Südwest-Tangente i
 deal für die  Durchführung   eines Triathlons eignet - sofern alle zus
 tändigen Behörden  damit   einverstanden sind\, dass mehrere Hundert M
 enschen im Kanal  schwimmen  und  anschließend mit ihren Rennrädern üb
 er die Autobahn  rasen. Und sie  sind  einverstanden\, nicht zuletzt z
 u Ehren des TV.\n\nDass  das  hiesige Straßenverkehrsamt und die Poliz
 ei für   Sportveranstaltungen schon  mal ein Auge zudrücken und die Sp
 errung   einer Hauptverkehrsader  genehmigen\, war schon seit dem erst
 en   Autobahnskate klar\, den das  Fürther Sportamt 2002 ins Leben ger
 ufen   hatte. Nach den Inline-Skatern  durften dann beim städtischen T
 riathlon   2009 erstmals auch die Radfahrer  auf die Südwest-Tangente\
 ; für die   Veranstaltung des TV Fürth wird nun ein  anderer\, dem Ver
 einsgelände   nahe gelegener Abschnitt der Autobahn genutzt.  Von dies
 er hat der   Highwayman - mit einem augenzwinkernden Seitenblick  auf 
 die   Beliebtheit englischer beziehungsweise amerikanischer Vokabeln i
 n  der   Triathlonszene - seinen Namen bekommen.\n\nAußergewöhnlich  i
 st  auch die Sperrung des offenen  Rhein-Main-Donau-Kanals für die   S
 chwimmstrecke eines Triathlons. Die  Laufstrecke hingegen dürfte viele
 n   Fürther Freizeitsportlern schon vom  Stadtwaldlauf oder dem regulä
 ren   Training bekannt sein\, und als  Zielbereich mit Rahmenprogramm 
 für die   ganze Familie dient das  Vereinsgelände in der Coubertinstra
 ße.\n\nFür  beide Distanzen zusammengerechnet stehen 750 Startplätze  
 zur   Verfügung\; ab 1. März kann man sich anmelden. Alle weiteren    
 Informationen gibt es im Internet unter www.highwayman-triathlon.de
X-ALT-DESC;FMTTYPE=text/html:<h1 style=text-align: center\;>Der  TV  F
 ürth 1860 lädt am 11.  Juli zum</h1>\n<h1 style=text-align: center\;>&
 #8222\;Highwayman&#8220\;  ein</h1>\n<p>Mit rund  zwanzig Veranstaltun
 gen\, verteilt über das ganze Jahr 2010\,   feiert der  TV Fürth 1860 
 e.V. sein 150jähriges Bestehen. Die  Bandbreite  reicht  dabei vom Jud
 o-Wettkampf über ein Sportfest für die  ganze Familie  bis  zu Tennis-
 Turnieren\, und mit dem  &#8222\;Highwayman&#8220\;-Triathlon am 11. J
 uli   bekommt auch der Ausdauersport  einen Ehrenplatz im Jubiläumsjah
 r des   größten und ältesten Fürther  Sportvereins.</p>\n<p>Eingeladen
  sind   Hobby-Sportler und Anfänger ebenso wie  ambitionierte Triathle
 ten\,   dementsprechend werden zwei unterschiedlich  lange Wettbewerbe
  angeboten:   Die klassische Olympische Distanz mit  1\,5 km Schwimmen
 \, 40 km  Radfahren  und 10 km Laufen\, und die  einsteigerfreundliche
   &#8222\;Jedermann-Distanz&#8220\; mit  750 m Schwimmen\, 20 km  Radf
 ahren und 5 km  Laufen.</p>\n<p>Im  Mittelpunkt des Geschehens steht d
 as Vereinsgelände  des TV  Fürth\, das sich  aufgrund der Lage in unmi
 ttelbarer Nähe zu  Stadtwald\,   Rhein-Main-Donau-Kanal und Südwest-Ta
 ngente ideal für die  Durchführung   eines Triathlons eignet &#8211\; 
 sofern alle zuständigen Behörden  damit   einverstanden sind\, dass me
 hrere Hundert Menschen im Kanal  schwimmen  und  anschließend mit ihre
 n Rennrädern über die Autobahn  rasen. Und sie  sind  einverstanden\, 
 nicht zuletzt zu Ehren des TV.</p>\n<p>Dass  das  hiesige Straßenverke
 hrsamt und die Polizei für   Sportveranstaltungen schon  mal ein Auge 
 zudrücken und die Sperrung   einer Hauptverkehrsader  genehmigen\, war
  schon seit dem ersten   &#8222\;Autobahnskate&#8220\; klar\, den das 
  Fürther Sportamt 2002 ins Leben gerufen   hatte. Nach den Inline-Skat
 ern  durften dann beim städtischen Triathlon   2009 erstmals auch die 
 Radfahrer  auf die Südwest-Tangente\; für die   Veranstaltung des TV F
 ürth wird nun ein  anderer\, dem Vereinsgelände   nahe gelegener Absch
 nitt der Autobahn genutzt.  Von dieser hat der   &#8222\;Highwayman&#8
 220\; &#8211\; mit einem augenzwinkernden Seitenblick  auf die   Belie
 btheit englischer beziehungsweise amerikanischer Vokabeln in  der   Tr
 iathlonszene &#8211\; seinen Namen bekommen.</p>\n<p>Außergewöhnlich  
 ist  auch die Sperrung des offenen  Rhein-Main-Donau-Kanals für die   
 Schwimmstrecke eines Triathlons. Die  Laufstrecke hingegen dürfte viel
 en   Fürther Freizeitsportlern schon vom  Stadtwaldlauf oder dem regul
 ären   Training bekannt sein\, und als  Zielbereich mit Rahmenprogramm
  für die   ganze Familie dient das  Vereinsgelände in der Coubertinstr
 aße.</p>\n<p>Für  beide Distanzen zusammengerechnet stehen 750 Startpl
 ätze  zur   Verfügung\; ab 1. März kann man sich anmelden. Alle weiter
 en    Informationen gibt es im Internet unter <a href=http://www.highw
 ayman-triathlon.de target=_blank>www.highwayman-triathlon.de</a></p>\n
URL:https://www.runningsocks.de/wordpress/terminkalender/eventsinglepa
 ge/?event_id=9&lang=de
ATTACH:https://www.runningsocks.de/wordpress/terminkalender/eventsingl
 epage/?event_id=9&lang=de
LOCATION:TV Fürth 1860 e.V\, Coubertinstraße 2\, Fürth\,
END:VEVENT
END:VCALENDAR
