BEGIN:VCALENDAR
VERSION:2.0
METHOD:PUBLISH
PRODID:-//hacksw/handcal//NONSGML v1.0//EN
BEGIN:VEVENT
DTSTAMP:20260419T165234Z
DTSTART:20110608T160000Z
DTEND:20110608T180000Z
UID:20110608T160000Z-20110608T180000Z-90@www.runningsocks.de
SUMMARY:8. FunRun Südwest
DESCRIPTION:9900 Meter Laufvergnügen\nStarten Sie mit in die heißen Ta
 ge: Am Mittwoch\, 8. Juni\, geht es  wieder rund beim FunRun\, den der
  Südwestpark bereits zum achten Mal veranstaltet. Heuer führt die Stre
 cke in Richtung Gebersdorf  bis zum Wiesengrund an der Rednitz und an 
 grünen Uferzonen des  Main-Donau-Kanals zurück zum Park. Wo alle Aktiv
 en bei Live-Musik  relaxen und an Buffet oder Grill ihre Energiespeich
 er auffüllen können.  Gemeinsam mit Familien\, Freunden\, Kollegen\, N
 achbarn... Mehr zum  Programm beim Sommerfest gibt es „laufend“ online
 .\nDie wichtigsten Fakten:\n\n	Start/Ziel: im Südwestpark\n\n\n	Streck
 e  Läufer/Nordic Walker:\n9\,9 km (über Gebersdorf die Rednitz  entlan
 g Richtung Fürth\, am Ufer des Main-Donau-Kanals zurück zum  Südwestpa
 rk)\n	Strecke Kinder (4 bis 6 Jahre):\neine  Runde durch den Südwestpa
 rk\n	Strecke Schüler (7 bis 14  Jahre):\neine Runde durch den Südwestp
 ark\n	Onlineanmeldung:\n\n	ONLINE-Anmeldeschluss:\nDienstag\, der 31.0
 5.2011\n	Vor-Ort-Anmeldungen:\nam 08.06.2011 ab 15:00 Uhr im Start-/Zi
 elbereich nur gegen BARZAHLUNG möglich\n\n\n\nAlle  Startzeiten:\n\n	a
 b 15:00 Uhr: Nachmeldung und Abholung der  Starterunterlagen im Start-
 /Zielbereich\n	18.00 Uhr: Start auf dem  Kurs für Kids\n	18.15 Uhr: St
 art Schülerlauf\n	18.30 Uhr:  Start Fun Runner & Walker\n	20:30 Uhr: Z
 ieleinlauf\n	20:30  Uhr: Siegerehrung\n\nIn der Startgebühr inbegriffe
 n:\n\n	hochwertiges Funktionsshirt (solange Vorrat reicht)\n	Transpond
 er-Zeitmessung\n	Dusch-  und Umkleidemöglichkeiten\n	Verpflegungsposte
 n auf der Strecke\n	Urkunde  (als Online-Ausdruck)\n	Parkplätze in den
  Parkhäusern\n\nGruppenanmeldungen (ab 5 Personen)\n\n	Läufer und Nord
 ic Walker 9\,9 km an der Rednitz und dem Main-Donau-Kanal entlang.\nFr
 ühbucherpreis bis 30.04.: 6\,- EUR p.P.\nStandardpreis: 8\,- EUR  p.P.
 \n	Kinder (mit Begleitung) und Schüler 1 km Parkrunde.\nFrühbucherprei
 s bis 30.04.: 2\,- EUR p.P.\nStandardpreis: 3\,- EUR  p.P.\n\nWeitere 
 Info's beim Veranstalter: SÜD-WEST-PARK Management GmbH\n\nZur Anmeldu
 ngen\n\n\n\nInformation zur Anmeldung für alle SUN LäuferInnen:\nDie G
 ruppenanmeldung wird/kann wieder durch mich (Frank H.W. ) durchgeführt
 . Wer sich für diesen Lauf interessiert und anmelden möchte bitte folg
 endermaßen vorgehen:\n\nIn das Feld Name bitte Vorname und Nachname ei
 ntragen.\n\nIn das Feld E-Mail die priv. oder geschäftl. Emailadresse 
 eingeben.\n\nIn das Feld Phone Number die priv. oder geschäftl. Telefo
 nnummer eingeben.\n\nBei Seats immer nur 1 auswählen.\n\nIn das Feld C
 omment die Daten für Geschlecht\,(M/W) Jahrgang (19xx) und T-Shirt Grö
 ße (XXS - XL)  in verständlicher Form eingeben. \n\nBevor man den Butt
 on Teilnahmeanfrage absenden klickt\, den angezeigten Code in das Feld
  eintragen.\n\nDas war's. Nach einigen Augenblicken taucht euer Name u
 nter bisher gemeldet auf. Die weiteren Daten sind nur für mich sichtba
 r. Diese werde für die Gruppenanmeldung auf der Homepage des Veranstal
 ters benötigt. Anmeldeschluß auf dieser Seite ist ebenfalls der 31.05.
 2011.\n\nDa wir den Termin für den Frühbucherrabbat (30.04.2011) verpa
 sst haben beträgt die Startgebühr nun 8\,00 EUR. Diese wird von mir im
  Zeitraum 01.06. - 07.06. eingesammelt.
X-ALT-DESC;FMTTYPE=text/html:<p><strong>9900 Meter Laufvergnügen</stro
 ng><br>\nStarten Sie mit in die heißen Tage: Am Mittwoch\, <strong>8. 
 Juni</strong>\, geht es  wieder rund beim <strong>FunRun</strong>\, de
 n der <strong>Südwestpark</strong> bereits zum achten Mal veranstaltet
 . Heuer führt die Strecke in Richtung Gebersdorf  bis zum Wiesengrund 
 an der Rednitz und an grünen Uferzonen des  Main-Donau-Kanals zurück z
 um Park. Wo alle Aktiven bei Live-Musik  relaxen und an Buffet oder Gr
 ill ihre Energiespeicher auffüllen können.  Gemeinsam mit Familien\, F
 reunden\, Kollegen\, Nachbarn&#8230\; Mehr zum  Programm beim <strong>
 Sommerfest</strong> gibt es „laufend“ online.</p>\n<h3>Die wichtigsten
  Fakten:</h3>\n<ul>\n<li><strong>Start/Ziel:</strong> im Südwestpark</
 li>\n</ul>\n<ul>\n<li><strong>Strecke  Läufer/Nordic Walker:</strong><
 br>\n9\,9 km (über Gebersdorf die Rednitz  entlang Richtung Fürth\, am
  Ufer des Main-Donau-Kanals zurück zum  Südwestpark)</li>\n<li><strong
 >Strecke Kinder (4 bis 6 Jahre):</strong><br>\neine  Runde durch den S
 üdwestpark</li>\n<li><strong>Strecke Schüler (7 bis 14  Jahre):</stron
 g><br>\neine Runde durch den Südwestpark</li>\n<li><strong>Onlineanmel
 dung:</strong>\n<ul>\n<li>ONLINE-Anmeldeschluss:<br>\nDienstag\, der 3
 1.05.2011</li>\n<li>Vor-Ort-Anmeldungen:<br>\nam 08.06.2011 ab 15:00 U
 hr im Start-/Zielbereich nur gegen BARZAHLUNG möglich</li>\n</ul>\n</l
 i>\n</ul>\n<h3><span style=font-size: medium\;>Alle  Startzeiten:</spa
 n></h3>\n<ul>\n<li>ab 15:00 Uhr: Nachmeldung und Abholung der  Starter
 unterlagen im Start-/Zielbereich</li>\n<li>18.00 Uhr: Start auf dem  K
 urs für Kids</li>\n<li>18.15 Uhr: Start Schülerlauf</li>\n<li>18.30 Uh
 r:  Start Fun Runner &amp\; Walker</li>\n<li>20:30 Uhr: Zieleinlauf</l
 i>\n<li>20:30  Uhr: Siegerehrung</li>\n</ul>\n<h3 id=c47><strong>In de
 r Startgebühr inbegriffen:</strong></h3>\n<ul>\n<li>hochwertiges Funkt
 ionsshirt (solange Vorrat reicht)</li>\n<li>Transponder-Zeitmessung</l
 i>\n<li>Dusch-  und Umkleidemöglichkeiten</li>\n<li>Verpflegungsposten
  auf der Strecke</li>\n<li>Urkunde  (als Online-Ausdruck)</li>\n<li>Pa
 rkplätze in den Parkhäusern</li>\n</ul>\n<h3>Gruppenanmeldungen (ab 5 
 Personen)</h3>\n<ul>\n<li>Läufer und Nordic Walker 9\,9 km an der Redn
 itz und dem Main-Donau-Kanal entlang.<br>\n<strong>Frühbucherpreis bis
  30.04.: 6\,- EUR p.P.<br>\nStandardpreis: </strong><strong>8\,- EUR  
 p.P.</strong></li>\n<li>Kinder (mit Begleitung) und Schüler 1 km Parkr
 unde.<br>\n<strong>Frühbucherpreis bis 30.04.: 2\,- EUR p.P.<br>\nStan
 dardpreis: 3\,- EUR  p.P.</strong></li>\n</ul>\n<p>Weitere Info&#8217\
 ;s beim Veranstalter: <a href=http://www.funrunsuedwest.de/ target=_bl
 ank>SÜD-WEST-PARK Management GmbH</a></p>\n<p>Zur <a href=http://www.f
 unrunsuedwest.de/anmeldung.html target=_blank>Anmeldungen</a></p>\n<hr
  style=height: 1px\; width: 640px\; size=1 />\n<h3><span style=text-de
 coration: underline\;><strong>Information zur Anmeldung für alle SUN L
 äuferInnen:</strong></span></h3>\n<p>Die Gruppenanmeldung wird/kann wi
 eder durch mich (Frank H.W. ) durchgeführt. Wer sich für diesen Lauf i
 nteressiert und anmelden möchte bitte folgendermaßen vorgehen:</p>\n<p
 >In das Feld <em>Name</em> bitte <strong>Vorname und Nachname</strong>
  eintragen.</p>\n<p>In das Feld <em>E-Mail</em> die <span style=text-d
 ecoration: underline\;><strong>priv. oder geschäftl. Emailadresse</str
 ong></span> eingeben.</p>\n<p>In das Feld <em>Phone Number</em> die <s
 trong>priv. oder geschäftl. Telefonnummer</strong> eingeben<strong>.</
 strong><br>\n<br>\nBei <em>Seats </em>immer nur <strong>1</strong> aus
 wählen<strong>.</strong><br>\n<br>\nIn das Feld Comment die Daten für 
 Geschlecht\,(<strong>M/W</strong>) Jahrgang (<strong>19xx</strong>) un
 d T-Shirt Größe (<strong>XXS &#8211\; XL</strong>)  in verständlicher 
 Form eingeben.<strong> </strong><br>\n<br>\nBevor man den Button &#822
 2\;<strong>Teilnahmeanfrage absenden</strong>&#8220\; klickt<strong>\,
  </strong>den angezeigten <strong>Code </strong>in das Feld eintragen<
 strong>.</strong><br>\n<br>\nDas war&#8217\;s. Nach einigen Augenblick
 en taucht euer Name unter &#8222\;<strong>bisher gemeldet</strong>&#82
 20\; auf. Die weiteren Daten sind nur für mich sichtbar. Diese werde f
 ür die Gruppenanmeldung auf der Homepage des Veranstalters benötigt. A
 nmeldeschluß auf dieser Seite ist ebenfalls der 31.05.2011.</p>\n<p>Da
  wir den Termin für den Frühbucherrabbat (30.04.2011) verpasst haben b
 eträgt die <strong>Startgebühr </strong>nun <strong>8\,00 EUR. </stron
 g>Diese wird von mir im Zeitraum 01.06. &#8211\; 07.06. eingesammelt. 
 <strong><br>\n</strong></p>\n
URL:https://www.runningsocks.de/wordpress/terminkalender/eventsinglepa
 ge/?event_id=90&lang=de
ATTACH:https://www.runningsocks.de/wordpress/terminkalender/eventsingl
 epage/?event_id=90&lang=de
LOCATION:Südwestpark\, Südwestpark 41\, Nürnberg
END:VEVENT
END:VCALENDAR
