BEGIN:VCALENDAR
VERSION:2.0
METHOD:PUBLISH
PRODID:-//hacksw/handcal//NONSGML v1.0//EN
BEGIN:VEVENT
DTSTAMP:20260419T165212Z
DTSTART:20110904T114500Z
DTEND:20110904T124500Z
UID:20110904T114500Z-20110904T124500Z-92@www.runningsocks.de
SUMMARY:2. Run & Bike beim Altstadtrennen Nürnberg
DESCRIPTION:Zum zweiten Mal findet nun auf Grund des großen Erfolges a
 us dem Vorjahr beim Altstadtrennen wieder ein Run and Bike  statt. Läu
 fer und Radfahrer teilen sich ein Fahrrad\, wobei der Abstand  zwische
 n dem Läufer und dem Radfahrer nie mehr als 10 Meter betragen  darf. S
 ie wechseln sich beliebig oft ab und legen dabei gemeinsam eine  Strec
 ke von bis zu 10 km zurück. Zwei Läufer teilen sich ein Fahrrad. (Quel
 le: www.radrennen.de)\n\nWie\, Wer\, Wann\, Wo? (Quelle:  fun-race.org
  )\n\n	Was und wie funktioniert Run and Bike?\n	Startberechtigung:	Mit
 machen kann jeder\n	Start:	12:45  Uhr\, Hauptmarkt\n	Ziel: Hauptmarkt\
 n\n\nStrecken:\n\n\n	Strecke:	Altstadtrunde\, Länge: 3\,5 km\n	Strecke
 nlänge: 	Fitness-Distanz: 3 Runden ca. 10 Km\n	Schnupper-Distanz: 2 Ru
 nden ca. 6 Km\n\n\nStartgeld:\n\n\n	Startgeld:		25 € pro Team\n	Frühbu
 cherrabatt:	Bei Anmeldung bis 01.08.2011: 20 €\n	Nachmeldung: zuzüglic
 h 5 €\n\n\nReglement:\n\n	Run & Bike im Rahmen des  Altstadtrennens is
 t eine Volkslaufveranstaltung der besonderen Art.  Jeweils ein Teammit
 glied läuft und der Partner fährt Rad. Beide können  sich beliebig abw
 echseln. Dabei darf der Abstand zwischen dem Läufer und  dem Radfahrer
  nicht mehr als 10 Meter betragen.\n	Gleichzeitig gibt es eine Mixed S
 taffel und eine  reine Frauen Staffel.\n\nWertung:\n\n	Angeboten werde
 n Männer- Frauen und  Mixed-Wettbewerbe. Die jeweils ersten drei erhal
 ten Sachpreise.\n\nAnmeldungen:\n\n\n	Anmeldungen: hier geht's lang\n\
 nNachmeldung:\n\n	Am Samstag\, 03.09.2011\, 15.00 bis 18.00 Uhr\, Rath
 aus\n	Am Sonntag\, 04.09.2011\, 10.30 bis 12.30 Uhr\, Rathaus\n\n\n(Qu
 elle: www.fun-race.org)
X-ALT-DESC;FMTTYPE=text/html:<p>Zum zweiten Mal findet nun auf Grund d
 es großen Erfolges aus dem Vorjahr beim Altstadtrennen wieder ein Run 
 and Bike  statt. Läufer und Radfahrer teilen sich ein Fahrrad\, wobei 
 der Abstand  zwischen dem Läufer und dem Radfahrer nie mehr als 10 Met
 er betragen  darf. Sie wechseln sich beliebig oft ab und legen dabei g
 emeinsam eine  Strecke von bis zu 10 km zurück. Zwei Läufer teilen sic
 h ein Fahrrad. (Quelle: <a href=http://www.radrennen.de/index.php?navi
 =1&amp\;rid=6 target=_blank>www.radrennen.de</a>)</p>\n<p>Wie\, Wer\, 
 Wann\, Wo? (Quelle:  <a href=http://www.fun-race.org/termine-ausschrei
 bungen/run-bike-492011-nuernberg/ target=_blank>fun-race.org</a> )</p>
 \n<ul>\n<li><a href=http://www.fun-race.org/termine-ausschreibungen/ru
 n-bike-1292010-nuernberg/die-details/ target=_blank>Was und wie funkti
 oniert Run and Bike</a>?</li>\n<li>Startberechtigung:	Mitmachen kann j
 eder</li>\n<li>Start:	12:45  Uhr\, Hauptmarkt</li>\n<li>Ziel: Hauptmar
 kt</li>\n</ul>\n<ul></ul>\n<p>Strecken:</p>\n<ul></ul>\n<ul>\n<li>Stre
 cke:	Altstadtrunde\, Länge: 3\,5 km</li>\n<li>Streckenlänge: 	Fitness-
 Distanz: 3 Runden ca. 10 Km</li>\n<li>Schnupper-Distanz: 2 Runden ca. 
 6 Km</li>\n</ul>\n<ul></ul>\n<p>Startgeld:</p>\n<ul></ul>\n<ul>\n<li>S
 tartgeld:		25 € pro Team</li>\n<li>Frühbucherrabatt:	Bei Anmeldung bis
  01.08.2011: 20 €</li>\n<li>Nachmeldung: zuzüglich 5 €</li>\n</ul>\n<u
 l></ul>\n<p>Reglement:</p>\n<ul>\n<li>Run &amp\; Bike im Rahmen des  A
 ltstadtrennens ist eine Volkslaufveranstaltung der besonderen Art.  Je
 weils ein Teammitglied läuft und der Partner fährt Rad. Beide können  
 sich beliebig abwechseln. Dabei darf der Abstand zwischen dem Läufer u
 nd  dem Radfahrer nicht mehr als 10 Meter betragen.</li>\n<li>Gleichze
 itig gibt es eine Mixed Staffel und eine  reine Frauen Staffel.</li>\n
 </ul>\n<p>Wertung:</p>\n<ul>\n<li>Angeboten werden Männer- Frauen und 
  Mixed-Wettbewerbe. Die jeweils ersten drei erhalten Sachpreise.</li>\
 n</ul>\n<p>Anmeldungen:</p>\n<ul></ul>\n<ul>\n<li>Anmeldungen: <a href
 =http://www.fun-race.org/termine-ausschreibungen/run-bike-492011-nuern
 berg/online-anmeldung/>hier geht&#8217\;s lang</a></li>\n</ul>\n<p>Nac
 hmeldung:</p>\n<ul>\n<li>Am Samstag\, 03.09.2011\, 15.00 bis 18.00 Uhr
 \, Rathaus</li>\n<li>Am Sonntag\, 04.09.2011\, 10.30 bis 12.30 Uhr\, R
 athaus</li>\n</ul>\n<ul></ul>\n<p>(Quelle: <a href=http://www.fun-race
 .org/termine-ausschreibungen/run-bike-1292010-nuernberg/ target=_blank
 >www.fun-race.org</a>)</p>\n
URL:https://www.runningsocks.de/wordpress/terminkalender/eventsinglepa
 ge/?event_id=92&lang=de
ATTACH:https://www.runningsocks.de/wordpress/terminkalender/eventsingl
 epage/?event_id=92&lang=de
LOCATION:Hauptmarkt Nürnberg\, Hauptmarkt\, Nürnberg
END:VEVENT
END:VCALENDAR
