BEGIN:VCALENDAR
VERSION:2.0
METHOD:PUBLISH
PRODID:-//hacksw/handcal//NONSGML v1.0//EN
BEGIN:VEVENT
DTSTAMP:20260419T165234Z
DTSTART:20110918T080000Z
DTEND:20110918T110000Z
UID:20110918T080000Z-20110918T110000Z-93@www.runningsocks.de
SUMMARY:12. Neumarkter Stadtlauf
DESCRIPTION:(Quelle: Neumarkter Stadtlauf )\n\nEs ist schon Tradition:
  Immer eine Wochenende nach dem die Ferien zu Ende sind startet der Ne
 umarkter Stadtlauf. Der wichtigste Lauf ist der Halbmarathon. 974 Star
 ter waren im letzten Jahr am Start und genossen die tolle Stimmung auf
  der Laufstrecke. Auch heuer ist der Start wieder am 18. September um 
 Punkt 10:00 Uhr in der Neumarkter Innenstadt.\nStart / Ziel:\n5\,5Km S
 chnupperlauf: 18. September 2011\, 9:50 Uhr\, Rathaus\, Innenstadt\, Z
 ielschluss 12 Uhr\nStartgeld:\nBis zum 13.07.2011  15\,50 Euro\nvom 14
 .07. bis 07.09.11  18\,50 Euro\nNachmeldung 08.09. bis 17.09.11  23\,5
 0 Euro\n10\,5Km Lauf: 18. September 2011\, 10 Uhr\, Rathaus\, Innensta
 dt\, Zielschluss 12 Uhr\nStartgeld:\nBis zum 13.07.2011  19\,50 Euro\n
 vom 14.07. bis 07.09.11  22\,50 Euro\nNachmeldung 08.09. bis 17.09.11 
  27\,50 Euro\nHalbmarathon: 18. September 2011\, 10 Uhr\, Rathaus\, In
 nenstadt\, Zielschluss 12.40 Uhr\nStartgeld:\nBis zum 13.07.2011  25\,
 50 Euro\nvom 14.07. bis 07.09.11  27\,50 Euro\nNachmeldung 08.09. bis 
 17.09.11  32\,50 Euro\n\nLeistungen:\nWas man alles für sein Startgeld
  bekommt:\n\n	Funktions T-Shirt als Finishergeschenk\n	Finishermedaill
 e\n	Startnummer mit persönlichen Vornamen\n	Informationszeitschrift mi
 t allen Startern\n	Gutschein für die Kloß mit Soß Party am Samstag\n	G
 utschein für einen freien Eintritt im Freibad\n	Nettozeitmessung mitte
 ls Chips mit Einzelwertung\, Klassenwertung und Teamwertung\n	Abgesper
 rte Strecke mit großen Kilometertafeln\n	Musik an vielen Stellen\n	Kos
 tenlose Teilnahme am Samstagprogramm mit Livemusik\n	Ärztliche Versorg
 ung mit drei Notärzten und vielen Sanitätern auf der Strecke und im Zi
 elbereich\n	Verpflegung auf der Strecke mit Wasser und ISO\n	\nVerpfle
 gung im Zielbereich mit Wasser\, ISO\; Cola und Früchten\n	Dusch- und 
 Massagemöglichkeit nach dem Lauf\n	Rahmenprogramm für Groß und Klein\n
 	Urkunde\, Ergebnisheft im Internet zum runterladen\n	Und natürlich ei
 nen perfekt organisierten Ablauf\n\nWertungen:\nEinzelwertung\, Stadtm
 eister/Stadtmeisterin\, Mannschaftswertung (5 Läufer bilden eine Manns
 chaft\, bitte auf identische Mannschaftsnamen im Meldeformular achten)
 .\n\nFlyer zum 12. Neumarkter_Stadtlauf\n\nWeitere Info's und Onlinean
 meldung beim Veranstalter: Stadtlauf Neumarkt e.V.
X-ALT-DESC;FMTTYPE=text/html:<p>(Quelle: <a href=http://stadtlauf-neum
 arkt.de target=_blank>Neumarkter Stadtlauf</a> )</p>\n<p>Es ist schon 
 Tradition: Immer eine Wochenende nach dem die Ferien zu Ende sind star
 tet der Neumarkter Stadtlauf. Der wichtigste Lauf ist der Halbmarathon
 . 974 Starter waren im letzten Jahr am Start und genossen die tolle St
 immung auf der Laufstrecke. Auch heuer ist der Start wieder am 18. Sep
 tember um Punkt 10:00 Uhr in der Neumarkter Innenstadt.</p>\n<h3><span
  style=font-size: small\;>Start / Ziel:</span></h3>\n<p><span style=te
 xt-decoration: underline\;>5\,5Km Schnupperlauf: </span>18. September 
 2011\, 9:50 Uhr\, Rathaus\, Innenstadt\, Zielschluss 12 Uhr</p>\n<p st
 yle=padding-left: 30px\;>Startgeld:</p>\n<p style=padding-left: 30px\;
 >Bis zum 13.07.2011  15\,50 Euro<br>\nvom 14.07. bis 07.09.11  18\,50 
 Euro<br>\nNachmeldung 08.09. bis 17.09.11  23\,50 Euro</p>\n<p>10\,5Km
  Lauf: 18. September 2011\, 10 Uhr\, Rathaus\, Innenstadt\, Zielschlus
 s 12 Uhr</p>\n<p style=padding-left: 30px\;>Startgeld:</p>\n<p style=p
 adding-left: 30px\;>Bis zum 13.07.2011  19\,50 Euro<br>\nvom 14.07. bi
 s 07.09.11  22\,50 Euro<br>\nNachmeldung 08.09. bis 17.09.11  27\,50 E
 uro</p>\n<p>Halbmarathon: 18. September 2011\, 10 Uhr\, Rathaus\, Inne
 nstadt\, Zielschluss 12.40 Uhr</p>\n<p style=padding-left: 30px\;>Star
 tgeld:</p>\n<p style=padding-left: 30px\;>Bis zum 13.07.2011  25\,50 E
 uro<br>\nvom 14.07. bis 07.09.11  27\,50 Euro<br>\nNachmeldung 08.09. 
 bis 17.09.11  32\,50 Euro</p>\n<h3>Leistungen:</h3>\n<p>Was man alles 
 für sein Startgeld bekommt:</p>\n<ul>\n<li>Funktions T-Shirt als Finis
 hergeschenk</li>\n<li>Finishermedaille</li>\n<li>Startnummer mit persö
 nlichen Vornamen</li>\n<li>Informationszeitschrift mit allen Startern<
 /li>\n<li>Gutschein für die &#8222\;Kloß mit Soß Party&#8220\; am Sams
 tag</li>\n<li>Gutschein für einen freien Eintritt im Freibad</li>\n<li
 >Nettozeitmessung mittels Chips mit Einzelwertung\, Klassenwertung und
  Teamwertung</li>\n<li>Abgesperrte Strecke mit großen Kilometertafeln<
 /li>\n<li>Musik an vielen Stellen</li>\n<li>Kostenlose Teilnahme am Sa
 mstagprogramm mit Livemusik</li>\n<li>Ärztliche Versorgung mit drei No
 tärzten und vielen Sanitätern auf der Strecke und im Zielbereich</li>\
 n<li>Verpflegung auf der Strecke mit Wasser und ISO</li>\n<li>\n<div>V
 erpflegung im Zielbereich mit Wasser\, ISO\; Cola und Früchten</div>\n
 </li>\n<li>Dusch- und Massagemöglichkeit nach dem Lauf</li>\n<li>Rahme
 nprogramm für Groß und Klein</li>\n<li>Urkunde\, Ergebnisheft im Inter
 net zum runterladen</li>\n<li>Und natürlich einen perfekt organisierte
 n Ablauf</li>\n</ul>\n<h3><strong>Wertungen:</strong></h3>\n<p>Einzelw
 ertung\, Stadtmeister/Stadtmeisterin\, Mannschaftswertung (5 Läufer bi
 lden eine Mannschaft\, bitte auf identische Mannschaftsnamen im Meldef
 ormular achten).</p>\n<p>Flyer zum 12. Neumarkter_Stadtlauf</p>\n<p>We
 itere Info&#8217\;s und Onlineanmeldung beim Veranstalter: <a href=htt
 p://www.stadtlauf-neumarkt.de target=_blank>Stadtlauf Neumarkt e.V.</a
 ></p>\n
URL:https://www.runningsocks.de/wordpress/terminkalender/eventsinglepa
 ge/?event_id=93&lang=de
ATTACH:https://www.runningsocks.de/wordpress/terminkalender/eventsingl
 epage/?event_id=93&lang=de
LOCATION:Rathaus Neumarkt\, Rathaus\, Neumarkt
END:VEVENT
END:VCALENDAR
