BEGIN:VCALENDAR
VERSION:2.0
METHOD:PUBLISH
PRODID:-//hacksw/handcal//NONSGML v1.0//EN
BEGIN:VEVENT
DTSTAMP:20260419T165352Z
DTSTART:20111009T090000Z
DTEND:20111009T120000Z
UID:20111009T090000Z-20111009T120000Z-94@www.runningsocks.de
SUMMARY:20. Schwabacher Citylauf
DESCRIPTION:Jedes Jahr am Sonntag nach dem 3. Oktober findet die größt
 e Laufveranstaltung Schwabachs statt\, der Citylauf. Zentraler Schaupl
 atz ist für Start\, Ziel und Siegerehrung der historischer Marktplatz.
 \n\nFür Läuferinnen und Läufer von Nah und Fern ist der Citylauf eine 
 gute Gelegenheit\, seinen Leistungsstand unter Wettkampfbedingungen zu
  messen. Regelmäßig werden über 500 Teilnehmer begrüßt\, von den Bambi
 ni über die Halbmarathonläufer bis hin zu Nordic Walkern. Gerade Inter
 essierte aus der Region können dabei bis fast zur letzten Minute abwar
 ten\, was das Wetter macht\, und sich noch am Lauftag zum Start melden
 .\n\nAlle Informationen rund um den nächsten Citylauf finden sich auf 
 der Homepage des Veranstalters: Angebotene Läufe\, Laufstrecken\, Zeit
 plan\, Teilnehmerinformationen. Langfristig vor dem Start des nächsten
  Laufs wird auch die Möglichkeit freigeschaltet\, sich direkt online a
 nzumelden. Viel Spaß beim Stöbern auf den Seiten\, in den Ergebnislist
 en und Bilderserien der vergangenen Läufe\, und  herzlich willkommen b
 eim Schwabacher Citylauf!\n\nLäufe\, Startzeiten\, Startgeld:\n\n\n\n\
 n\n\n\n\nStartzeit\n\n\nStartgebühr\nNachmeldung\n\n\nLauf 1: Bambini 
 400m\n\n\n10.30 Uhr\n\n\n2\,- €\n2\,- €\n\n\nLauf 2: Schüler/innen 1.1
 00 m\n\n\n11.10 Uhr\n\n\n2\,- €\n3\,- €\n\n\nLauf 3: Hobbylauf 5\,4 km
 \n\n\n13.45 Uhr\n\n\n7\,- €\n9\,- €\n\n\nLauf 4: Hauptlauf 10 km\n\n\n
 13.45 Uhr\n\n\n7\,- €\n9\,- €\n\n\nHalbmarathon 21\,1 km\n\n\n11.00 Uh
 r\n\n\n15\,- €\n18\,- €\n\n\nNordic Walking 8\,7 km\n\n\n13.45 Uhr\n\n
 \n5\,- €\n7\,- €\n\n\n\n\n\n\n\n\n\n\n\n\n\n\n\n\nLeistungen:\n\n\n\n»
  Markierte Laufstrecken\n» Medizinische Versorgung\n\n\n» Streckenabsi
 cherung\n» Zeitnahme und Wertung\n\n\n» HM: Jeder km ausgeschildert\n»
  Obst und Getränke am Ziel\n\n\n» 3 Stationen mit Wasser und\n» Entmüd
 ungsmasagen\n\n\n   Isogetränk auf der HM-Strecke\n» Persönliche Urkun
 de\n\n\n\n \n\n \n\n \n\n \n\nsowie viele weitere Geld- und Sachpreise
  auf alle Strecken und:  Zum 20. Jubiläum wird ein sensationell günsti
 ges Original-Citylauf-Jubiläumsshirt angeboten!\n\nFlyer zum Download:
  gibts keinen\, sh. Info's beim Veranstalter\n\nWeitere Info's und Onl
 ine Anmeldung beim Veranstalter: TV 1848 Schwabach e.V.
X-ALT-DESC;FMTTYPE=text/html:<p>Jedes Jahr am Sonntag nach dem 3. Okto
 ber findet die größte Laufveranstaltung Schwabachs statt\, der Citylau
 f. Zentraler Schauplatz ist für Start\, Ziel und Siegerehrung der hist
 orischer Marktplatz.</p>\n<p>Für Läuferinnen und Läufer von Nah und Fe
 rn ist der Citylauf eine gute Gelegenheit\, seinen Leistungsstand unte
 r Wettkampfbedingungen zu messen. Regelmäßig werden über 500 Teilnehme
 r begrüßt\, von den Bambini über die Halbmarathonläufer bis hin zu Nor
 dic Walkern. Gerade Interessierte aus der Region können dabei bis fast
  zur letzten Minute abwarten\, was das Wetter macht\, und sich noch am
  Lauftag zum Start melden.</p>\n<p>Alle Informationen rund um den näch
 sten Citylauf finden sich auf der Homepage des Veranstalters: Angebote
 ne Läufe\, Laufstrecken\, Zeitplan\, Teilnehmerinformationen. Langfris
 tig vor dem Start des nächsten Laufs wird auch die Möglichkeit freiges
 chaltet\, sich direkt online anzumelden. Viel Spaß beim Stöbern auf de
 n Seiten\, in den Ergebnislisten und Bilderserien der vergangenen Läuf
 e\, und  herzlich willkommen beim Schwabacher Citylauf!</p>\n<p><span 
 style=text-decoration: underline\;>Läufe\, Startzeiten\, Startgeld:<st
 rong></strong><br>\n</span></p>\n<table border=0>\n<tbody>\n<tr><td><s
 pan style=font-size: small\;><br>\n</span></td>\n<td><span style=font-
 size: small\;><br>\n</span></td>\n<td><span style=font-size: small\;>S
 tartzeit</span></td>\n<td><span style=font-size: small\;><br>\n</span>
 </td>\n<td><span style=font-size: small\;>Startgebühr</span></td>\n<td
 ><span style=font-size: small\;>Nachmeldung</span></td></tr>\n<tr><td>
 <span style=font-size: small\;>Lauf 1: <strong>Bambini 400m</strong></
 span></td>\n<td><span style=font-size: small\;><br>\n</span></td>\n<td
 ><span style=font-size: small\;>10.30 Uhr</span></td>\n<td><span style
 =font-size: small\;><br>\n</span></td>\n<td><span style=font-size: sma
 ll\;>2\,- €</span></td>\n<td><span style=font-size: small\;>2\,- €</sp
 an></td></tr>\n<tr><td><span style=font-size: small\;>Lauf 2: <strong>
 Schüler/innen 1.100 m</strong></span></td>\n<td><span style=font-size:
  small\;><br>\n</span></td>\n<td><span style=font-size: small\;>11.10 
 Uhr</span></td>\n<td><span style=font-size: small\;><br>\n</span></td>
 \n<td><span style=font-size: small\;>2\,- €</span></td>\n<td><span sty
 le=font-size: small\;>3\,- €</span></td></tr>\n<tr><td><span style=fon
 t-size: small\;>Lauf 3: <strong>Hobbylauf 5\,4 km</strong></span></td>
 \n<td><span style=font-size: small\;><br>\n</span></td>\n<td><span sty
 le=font-size: small\;>13.45 Uhr</span></td>\n<td><span style=font-size
 : small\;><br>\n</span></td>\n<td><span style=font-size: small\;>7\,- 
 €</span></td>\n<td><span style=font-size: small\;>9\,- €</span></td></
 tr>\n<tr><td><span style=font-size: small\;>Lauf 4: <strong>Hauptlauf 
 10 km</strong></span></td>\n<td><span style=font-size: small\;><br>\n<
 /span></td>\n<td><span style=font-size: small\;>13.45 Uhr</span></td>\
 n<td><span style=font-size: small\;><br>\n</span></td>\n<td><span styl
 e=font-size: small\;>7\,- €</span></td>\n<td><span style=font-size: sm
 all\;>9\,- €</span></td></tr>\n<tr><td><span style=font-size: small\;>
 <strong>Halbmarathon 21\,1 km</strong></span></td>\n<td><span style=fo
 nt-size: small\;><br>\n</span></td>\n<td><span style=font-size: small\
 ;>11.00 Uhr</span></td>\n<td><span style=font-size: small\;><br>\n</sp
 an></td>\n<td><span style=font-size: small\;>15\,- €</span></td>\n<td>
 <span style=font-size: small\;>18\,- €</span></td></tr>\n<tr><td><span
  style=font-size: small\;><strong>Nordic Walking 8\,7 km</strong></spa
 n></td>\n<td><span style=font-size: small\;><br>\n</span></td>\n<td><s
 pan style=font-size: small\;>13.45 Uhr</span></td>\n<td><span style=fo
 nt-size: small\;><br>\n</span></td>\n<td><span style=font-size: small\
 ;>5\,- €</span></td>\n<td><span style=font-size: small\;>7\,- €</span>
 </td></tr>\n<tr><td><span style=font-size: small\;><br>\n</span></td>\
 n<td><span style=font-size: small\;><br>\n</span></td>\n<td><span styl
 e=font-size: small\;><br>\n</span></td>\n<td><span style=font-size: sm
 all\;><br>\n</span></td>\n<td><span style=font-size: small\;><br>\n</s
 pan></td>\n<td></td></tr>\n</tbody>\n</table>\n<p><span style=text-dec
 oration: underline\;>Leistungen:</span></p>\n<table border=0 align=lef
 t>\n<tbody>\n<tr><td>» Markierte Laufstrecken</td>\n<td>» Medizinische
  Versorgung</td></tr>\n<tr><td>» Streckenabsicherung</td>\n<td>» Zeitn
 ahme und Wertung</td></tr>\n<tr><td>» HM: Jeder km ausgeschildert</td>
 \n<td>» Obst und Getränke am Ziel</td></tr>\n<tr><td>» 3 Stationen mit
  Wasser und</td>\n<td>» Entmüdungsmasagen</td></tr>\n<tr><td>   Isoget
 ränk auf der HM-Strecke</td>\n<td>» Persönliche Urkunde</td></tr>\n</t
 body>\n</table>\n<p>&nbsp\;</p>\n<p>&nbsp\;</p>\n<p>&nbsp\;</p>\n<p>&n
 bsp\;</p>\n<p>sowie viele weitere Geld- und Sachpreise auf alle Streck
 en und:  Zum 20. Jubiläum wird ein sensationell günstiges Original-Cit
 ylauf-Jubiläumsshirt angeboten!</p>\n<p>Flyer zum Download: gibts kein
 en\, sh. Info&#8217\;s beim Veranstalter</p>\n<p>Weitere Info&#8217\;s
  und Online Anmeldung beim Veranstalter: <a href=http://www.schwabache
 r-citylauf.de target=_blank>TV 1848 Schwabach e.V.</a></p>\n
URL:https://www.runningsocks.de/wordpress/terminkalender/eventsinglepa
 ge/?event_id=94&lang=de
ATTACH:https://www.runningsocks.de/wordpress/terminkalender/eventsingl
 epage/?event_id=94&lang=de
LOCATION:Marktplatz Schwabach\, Martkplatz\, Schwabach
END:VEVENT
END:VCALENDAR
