BEGIN:VCALENDAR
VERSION:2.0
METHOD:PUBLISH
PRODID:-//hacksw/handcal//NONSGML v1.0//EN
BEGIN:VEVENT
DTSTAMP:20260419T165141Z
DTSTART:20110828T080000Z
DTEND:20110828T130000Z
UID:20110828T080000Z-20110828T130000Z-96@www.runningsocks.de
SUMMARY:25. Neustädter Volkstriathlon
DESCRIPTION: \n\n\n\nZeitplan:\n08:00 bis 09:00 Uhr\nStartnummernausga
 be\n\n\n\n\n09:15 Uhr\nWettkampfbesprechung (Teilnahmepflicht)\n\n\n\n
 \n10:00 Uhr\n1. Start zu Gruppen von 40 Teilnehmern | 8 Starter pro Ba
 hn | 5 Bahnen. Weitere Starts im Abstand von je 15 Minuten\n\n\n\n\nca
 . 14:30 Uhr\nSiegerehrung (Terrasse am Schwimmerbecken)\n\n\n\nDistanz
 en:\nSchwimmen\n400 m (5 Bahnen)\n\n\n\n\nRadfahren\n20 000 m (NEA-Neu
 schauerberg–NEA)\n\n\n\n\nLaufen\n5 000 m (Stadtpark\, südlich Freibad
 )\n\n\n\nTeilnahme:\nStartberechtigt sind Personen ab 16 Jahre (Jhg. 1
 994)\n\n\n\nStartgeld:\n25\,00 € über Lastschrifteinzug bei online-Anm
 eldung sonst siehe Bankverbindung\n\n\nAnmeldung:\nhier geht's zum Mel
 deformular\n\n\nMeldeschluss:\n23. August 2010 - 00:00 Uhr\n\n\nNachme
 ldungen:\n30\,00 € bei Nachmeldung bzw. Zahlung nach Meldeschluss\n\n\
 n\n\n\n\n\n\n\n\n\n\n\n\n\n\n\n\n\n\n\n\n\n\n\n\n\nWeitere Info's und 
 Onlineanmeldung beim Veranstalter: DLRG OV Neustadt a.d. Aisch
X-ALT-DESC;FMTTYPE=text/html:<p>&nbsp\;</p>\n<table border=0 cellspaci
 ng=5 cellpadding=5 width=700 align=left>\n<tbody>\n<tr><td valign=top>
 <span style=font-size: small\;>Zeitplan:</span></td>\n<td><span style=
 font-size: small\;>08:00 bis 09:00 Uhr</span></td>\n<td colspan=2 vali
 gn=top><span style=font-size: small\;>Startnummernausgabe</span></td>\
 n<td></td></tr>\n<tr><td valign=top></td>\n<td><span style=font-size: 
 small\;>09:15 Uhr</span></td>\n<td colspan=2><span style=font-size: sm
 all\;>Wettkampfbesprechung (Teilnahmepflicht)</span></td>\n<td></td></
 tr>\n<tr><td valign=top></td>\n<td valign=top><span style=font-size: s
 mall\;>10:00 Uhr</span></td>\n<td colspan=2><span style=font-size: sma
 ll\;>1. Start zu Gruppen von 40 Teilnehmern | 8 Starter pro Bahn | 5 B
 ahnen. Weitere Starts im Abstand von je 15 Minuten</span></td>\n<td></
 td></tr>\n<tr><td valign=top></td>\n<td><span style=font-size: small\;
 >ca. 14:30 Uhr</span></td>\n<td colspan=2><span style=font-size: small
 \;>Siegerehrung (Terrasse am Schwimmerbecken)</span></td>\n<td></td></
 tr>\n<tr><td valign=top><span style=font-size: small\;>Distanzen:</spa
 n></td>\n<td><span style=font-size: small\;>Schwimmen</span></td>\n<td
  colspan=2><span style=font-size: small\;>400 m (5 Bahnen)</span></td>
 \n<td></td></tr>\n<tr><td valign=top></td>\n<td><span style=font-size:
  small\;>Radfahren</span></td>\n<td colspan=2><span style=font-size: s
 mall\;>20 000 m (NEA-Neuschauerberg–NEA)</span></td>\n<td></td></tr>\n
 <tr><td valign=top></td>\n<td><span style=font-size: small\;>Laufen</s
 pan></td>\n<td colspan=2><span style=font-size: small\;>5 000 m (Stadt
 park\, südlich Freibad)</span></td>\n<td></td></tr>\n<tr><td valign=to
 p><span style=font-size: small\;>Teilnahme:</span></td>\n<td colspan=3
 ><span style=font-size: small\;>Startberechtigt sind Personen ab 16 Ja
 hre (Jhg. 1994)</span></td>\n<td></td></tr>\n<tr><td valign=top><span 
 style=font-size: small\;>Startgeld:</span></td>\n<td colspan=4><span s
 tyle=font-size: small\;>25\,00 € über Lastschrifteinzug bei online-Anm
 eldung sonst siehe Bankverbindung</span></td></tr>\n<tr><td valign=top
 ><span style=font-size: small\;>Anmeldung:</span></td>\n<td colspan=4>
 <span style=font-size: small\;>hier geht&#8217\;s zum <a href=http://w
 ww.dlrg-nea.de/index.php?option=com_seminar>Meldeformular</a></span></
 td></tr>\n<tr><td valign=top><span style=font-size: small\;>Meldeschlu
 ss:</span></td>\n<td colspan=4><span style=font-size: small\;>23. Augu
 st 2010 &#8211\; 00:00 Uhr</span></td></tr>\n<tr><td valign=top><span 
 style=font-size: small\;>Nachmeldungen:</span></td>\n<td colspan=4><sp
 an style=font-size: small\;>30\,00 € bei Nachmeldung bzw. Zahlung nach
  Meldeschluss</span></td></tr>\n</tbody>\n</table>\n<p><br class=space
 r_ /></p>\n<p><br class=spacer_ /></p>\n<p><br class=spacer_ /></p>\n<
 p><br class=spacer_ /></p>\n<p><br class=spacer_ /></p>\n<p><br class=
 spacer_ /></p>\n<p><br class=spacer_ /></p>\n<p><br class=spacer_ /></
 p>\n<p><br class=spacer_ /></p>\n<p><br class=spacer_ /></p>\n<p><br c
 lass=spacer_ /></p>\n<p><br class=spacer_ /><br>\n<br>\nWeitere Info&#
 8217\;s und Onlineanmeldung beim Veranstalter: <a href=http://www.dlrg
 -nea.de/ target=_blank>DLRG OV Neustadt a.d. Aisch</a></p>\n
URL:https://www.runningsocks.de/wordpress/terminkalender/eventsinglepa
 ge/?event_id=96&lang=de
ATTACH:https://www.runningsocks.de/wordpress/terminkalender/eventsingl
 epage/?event_id=96&lang=de
LOCATION:Neustädter Waldbad\, Eilersweg 5\, Neustadt a. d. Aisch
END:VEVENT
END:VCALENDAR
