BEGIN:VCALENDAR
VERSION:2.0
METHOD:PUBLISH
PRODID:-//hacksw/handcal//NONSGML v1.0//EN
BEGIN:VEVENT
DTSTAMP:20260419T165212Z
DTSTART:20110522T073000Z
DTEND:20110522T110000Z
UID:20110522T073000Z-20110522T110000Z-97@www.runningsocks.de
SUMMARY:8. Burgbernheimer Berglauf mit Crosslauf
DESCRIPTION:Wenn die blauen\, gelben und rot-weißen Farbtupfer  rund u
 m den Kapellenberg und am Fuße der Frankenhöhe nicht  mehr zu  überseh
 en sind\, dann ist wieder Berglaufzeit. Nicht  nur  die  aufbegeistert
 en Burgbernheimer bereiten sich intensiv auf den 8.  Berglauf vor\, de
 r am Sonntag\, den 22. Mai wieder viele Lauffreunde aus  nah und fern 
 angelocken wird. (Quelle: TSV 1877 Burgbernheim )\nWettbewerbe:\n\n\n\
 nDistanz: \nStartzeit:\n\n\n\n5\,5 km\n09:30\nHobbylauf + Walking\, wJ
 A/B\, mJA/B und Erwachsene\n\n\n14\,5 km\n09:45\nCrosslauf\, alle Alte
 rsklassen\n\n\n2\,2 km\n11:30\nSchülerlauf männlich m7 bis m15\n\n\n2\
 ,2 km\n11:50\nSchülerlauf weiblich w7 bis w15\n\n\n600 m\n12:15\nBambi
 nilauf\, bis m/w6\n\n\n\n\n\n\nStartgebühren:\nErwachsene \n Jugend \n
  Schüler\n Bambinis\n8 €\n5 €\n4 €\n2 €\n\n\n\n\n\n\n\nStartgebühr bit
 te in Bar am Wettkampftag\n\n\n\nDie insgesamt ersten 100 bis 8. Mai A
 ngemeldeten des Hobby-Berglaufes und Crosslaufes erhalten je 1 Funktio
 nsshirt.\n\n\n\nAuszeichnungen:\nAlle Teilnehmer erhalten eine Urkunde
 \n\n\n\n\n\n\n	Alle Bambinins erhalten eine Medaille\n	Die 3 Erstplatz
 ierten jeder Altersklasse im Schüler-lauf erhalten eine Medaille\n	Die
  Erstplatzierten m/w im Hauptlauf\, Crosslauf\n und Walking erhalten j
 e einen Pokal\n\n\n\n\n\nWeitere aktuellen Info's und Online Anmeldung
  direkt beim Veranstalter: TSV 1877 Burgbernheim
X-ALT-DESC;FMTTYPE=text/html:<p><strong>Wenn die blauen\, gelben und r
 ot-weißen Farbtupfer  rund um den Kapellenberg und am Fuße der Franken
 höhe nicht  mehr zu  übersehen sind\, dann ist wieder Berglaufzeit. Ni
 cht  nur  die  aufbegeisterten Burgbernheimer bereiten sich intensiv a
 uf den 8.  Berglauf vor\, der am Sonntag\, den 22. Mai wieder viele La
 uffreunde aus  nah und fern angelocken wird. (Quelle: </strong><a href
 =http://www.tsvburgbernheim.de/index.html target=_blank>TSV 1877 Burgb
 ernheim</a> )<br>\n<span style=text-decoration: underline\;><strong>We
 ttbewerbe:</strong></span></p>\n<table id=rand style=width: 487px\; he
 ight: 155px\; border: 1px solid #add8e6\; border=1 cellspacing=0 cellp
 adding=0 frame=box rules=all>\n<tbody>\n<tr height=20><td width=62 hei
 ght=20 valign=top><strong>Distanz: </strong></td>\n<td width=67 height
 =20 valign=top><strong>Startzeit:</strong></td>\n<td width=350 height=
 20 valign=top></td></tr>\n<tr height=20><td width=62 height=20 valign=
 top><span style=font-size: small\;>5\,5 km</span></td>\n<td width=67 h
 eight=20 valign=top><span style=font-size: small\;>09:30</span></td>\n
 <td width=350 height=20 valign=top><span style=font-size: small\;>Hobb
 ylauf + Walking\, wJA/B\, mJA/B und Erwachsene</span></td></tr>\n<tr h
 eight=20><td width=62 height=20 valign=top><span style=font-size: smal
 l\;>14\,5 km</span></td>\n<td width=67 height=20 valign=top><span styl
 e=font-size: small\;>09:45</span></td>\n<td width=350 height=20 valign
 =top><span style=font-size: small\;>Crosslauf\, alle Altersklassen</sp
 an></td></tr>\n<tr height=20><td width=62 height=20 valign=top><span s
 tyle=font-size: small\;>2\,2 km</span></td>\n<td width=67 height=20 va
 lign=top><span style=font-size: small\;>11:30</span></td>\n<td width=3
 50 height=20 valign=top><span style=font-size: small\;>Schülerlauf män
 nlich m7 bis m15</span></td></tr>\n<tr height=20><td width=62 height=2
 0 valign=top><span style=font-size: small\;>2\,2 km</span></td>\n<td w
 idth=67 height=20 valign=top><span style=font-size: small\;>11:50</spa
 n></td>\n<td width=350 height=20 valign=top><span style=font-size: sma
 ll\;>Schülerlauf weiblich w7 bis w15</span></td></tr>\n<tr height=20><
 td width=62 height=20 valign=top><span style=font-size: small\;>600 m<
 /span></td>\n<td width=67 height=20 valign=top><span style=font-size: 
 small\;>12:15</span></td>\n<td width=350 height=20 valign=top><span st
 yle=font-size: small\;>Bambinilauf\, bis m/w6</span></td></tr>\n</tbod
 y>\n</table>\n<table border=0 cellspacing=2 cellpadding=0 width=704>\n
 <tbody>\n<tr><td width=130 valign=top><span style=text-decoration: und
 erline\;><strong><span style=font-size: small\;>Startgebühren:</span><
 /strong></span></td>\n<td width=99><span style=font-size: small\;>Erwa
 chsene </span><br>\n<span style=font-size: small\;> Jugend </span><br>
 \n<span style=font-size: small\;> Schüler</span><br>\n<span style=font
 -size: small\;> Bambinis</span></td>\n<td valign=top><span style=font-
 size: small\;>8 €</span><br>\n<span style=font-size: small\;>5 €</span
 ><br>\n<span style=font-size: small\;>4 €</span><br>\n<span style=font
 -size: small\;>2 €</span></td></tr>\n</tbody>\n</table>\n<table border
 =0 cellspacing=2 cellpadding=0 width=704>\n<tbody>\n<tr><td width=130 
 valign=top></td>\n<td width=378><span style=font-size: small\;>Startge
 bühr bitte in Bar am Wettkampftag</span></td></tr>\n</tbody>\n</table>
 \n<p><span style=font-size: small\;>Die insgesamt ersten 100 bis 8. Ma
 i Angemeldeten des Hobby-Berglaufes und Crosslaufes erhalten je 1 Funk
 tionsshirt.</span></p>\n<table border=0 cellspacing=2 cellpadding=0 wi
 dth=704>\n<tbody>\n<tr><td width=130 valign=top><span style=font-size:
  small\;>Auszeichnungen:</span></td>\n<td width=378><span style=font-s
 ize: small\;>Alle Teilnehmer erhalten eine Urkunde</span></td>\n<td ro
 wspan=8 width=188 valign=top></td></tr>\n<tr><td width=130></td>\n<td 
 width=378><ul>\n<li><span style=font-size: small\;>Alle Bambinins erha
 lten eine Medaille</span></li>\n<li><span style=font-size: small\;>Die
  3 Erstplatzierten jeder Altersklasse im Schüler-lauf erhalten eine Me
 daille</span></li>\n<li><span style=font-size: small\;>Die Erstplatzie
 rten m/w im Hauptlauf\, Crosslauf</span><br>\n<span style=font-size: s
 mall\;> und Walking erhalten je einen Pokal</span></li>\n</ul></td></t
 r>\n</tbody>\n</table>\n<p>Weitere aktuellen Info&#8217\;s und Online 
 Anmeldung direkt beim Veranstalter: <a href=http://www.tsvburgbernheim
 .de/leicht/leicht_berglauf_start.html target=_blank>TSV 1877 Burgbernh
 eim</a></p>\n
URL:https://www.runningsocks.de/wordpress/terminkalender/eventsinglepa
 ge/?event_id=97&lang=de
ATTACH:https://www.runningsocks.de/wordpress/terminkalender/eventsingl
 epage/?event_id=97&lang=de
LOCATION:Vereinsheim TSV 1877 Burgbernheim\, Kapellenberg 1\, Burgbern
 heim
END:VEVENT
END:VCALENDAR
