BEGIN:VCALENDAR
VERSION:2.0
METHOD:PUBLISH
PRODID:-//hacksw/handcal//NONSGML v1.0//EN
BEGIN:VEVENT
DTSTAMP:20260419T165502Z
DTSTART:20120624T070000Z
DTEND:20120624T130000Z
UID:20120624T070000Z-20120624T130000Z-99@www.runningsocks.de
SUMMARY:24. Cadion Rothseetriathlon
DESCRIPTION:Im Januar 2012 wird voraussichtlich das Anmeldeportal für 
 den 24. Cadion Rothsee Triathlon am 23./24. Juni 2012 geöffnet.\n\n\n\
 n\nFür das Wochenende werden ca. 2000 Sportler erwartet. 1400 Athleten
  werden alleine am Sonntag für die olympische Distanz angenommen werde
 n\, die gleichzeitig wieder als Mittelfränkische Meisterschaft ausgetr
 agen wird.\n\nAm Samstag finden Schüler-\, Jugend-\, Schnupper- und Sp
 rintdistanzen statt. Hier rechnen wir mit ca. 600 Teilnehmer.\n\nWeite
 re Kurzinfo's:\n\nStart/Ziel:\n\nSegelzentrum Heuberg\, Hilpoltstein\n
 \nWettkampfformate:\n\n\n\nSamstag 23.06.2012\n\n\nSchüler C\n50m     
    2\,5km      0\,4km      Mfr. M.\n\n\nSchüler B\n100m      5\,0km   
    1\,0km      Mfr. M.\n\n\nSchüler A\n200m      6\,5km      2\,5km   
    Mfr. M\n\n\nJedermann\n200m      6\,5km      2\,5km\n\n\nJugend B\n
 400m      6\,5km      2\,5km\n\n\nJug. A/Jun\n750m      19\,5km    5\,
 0km\n\n\nSprint\n750m      19\,5km    5\,0km\n\n\nSonntag 24.6.2012\n\
 n\nEinzelwettbewerb\n1.5 km    40 km      10km      Mfr. M.\n\n\nStaff
 elwettbewerb\n1.5 km    40 km      10km\n\n\n\nStartgebühren:\n\n\n\nS
 amstag 23.06.2012\n\n\nSchüler C/B\n12\,50 €\n\n\nSchüler A\n12\,50 €\
 n\n\nJedermann\n15\,00 €\n\n\nJugend A/B/Junioren\n20\,00 €\n\n\nSprin
 t\n20\,00 €\n\n\nSonntag 24.6.2012 – Kurzdistanz\n\n\nEinzelwettbewerb
 \, incl. Tageslizenz (10\,- €)\n50\,00 €\n\n\n- ab 1. Mai 2012\, incl.
  Tageslizenz (10\,- €)\n55\,00 €\n\n\n- ab 1. Juni 2012\, incl. Tagesl
 izenz (10\,- €)\n60\,00 €\n\n\nStaffelwettbewerb\n70\,00 €\n\n\n- ab 1
 . Mai 2012\n75\,00 €\n\n\n- ab 1. Juni 2012\n80\,00 €\n\n\n\nAusschrei
 bung:\n\n[wpfilebase tag=file path='triathlon/rothsee/20120624/2012062
 4_cadion_rothseetriathlon.pdf' /]\n\nAktuelle Info's und Onlineanmeldu
 ng auf der Seite des Veranstalters: Rothsee Triathlon\n\nAnmeldung für
 : Sonntag\, 24.06.2012\n\nAnmeldung für: Samstag\, 23.12.2012
X-ALT-DESC;FMTTYPE=text/html:<p>Im Januar 2012 wird voraussichtlich da
 s Anmeldeportal für den 24. Cadion Rothsee Triathlon am 23./24. Juni 2
 012 geöffnet.</p>\n<p><strong><span style=color: #ff0000\;><br>\n</spa
 n></strong><br>\n<br>\nFür das Wochenende werden ca. 2000 Sportler erw
 artet. 1400 Athleten werden alleine am Sonntag für die olympische Dist
 anz angenommen werden\, die gleichzeitig wieder als Mittelfränkische M
 eisterschaft ausgetragen wird.</p>\n<p>Am Samstag finden Schüler-\, Ju
 gend-\, Schnupper- und Sprintdistanzen statt. Hier rechnen wir mit ca.
  600 Teilnehmer.</p>\n<p>Weitere Kurzinfo&#8217\;s:</p>\n<p><strong>St
 art/Ziel:</strong><br>\n<br>\nSegelzentrum Heuberg\, Hilpoltstein</p>\
 n<p><strong>Wettkampfformate:</strong></p>\n<table border=0>\n<tbody>\
 n<tr><td colspan=2><strong>Samstag 23.06.2012</strong></td></tr>\n<tr>
 <td>Schüler C</td>\n<td>50m        2\,5km      0\,4km      Mfr. M.</td
 ></tr>\n<tr><td>Schüler B</td>\n<td>100m      5\,0km      1\,0km      
 Mfr. M.</td></tr>\n<tr><td>Schüler A</td>\n<td>200m      6\,5km      2
 \,5km      Mfr. M</td></tr>\n<tr><td>Jedermann</td>\n<td>200m      6\,
 5km      2\,5km</td></tr>\n<tr><td>Jugend B</td>\n<td>400m      6\,5km
       2\,5km</td></tr>\n<tr><td>Jug. A/Jun</td>\n<td>750m      19\,5km
     5\,0km</td></tr>\n<tr><td>Sprint</td>\n<td>750m      19\,5km    5\
 ,0km</td></tr>\n<tr><td colspan=2><strong>Sonntag 24.6.2012</strong></
 td></tr>\n<tr><td>Einzelwettbewerb</td>\n<td>1.5 km    40 km      10km
       Mfr. M.</td></tr>\n<tr><td>Staffelwettbewerb</td>\n<td>1.5 km   
  40 km      10km</td></tr>\n</tbody>\n</table>\n<p><strong>Startgebühr
 en:</strong></p>\n<table border=0>\n<tbody>\n<tr><td colspan=2><strong
 >Samstag 23.06.2012</strong></td></tr>\n<tr><td>Schüler C/B</td>\n<td>
 12\,50 €</td></tr>\n<tr><td>Schüler A</td>\n<td>12\,50 €</td></tr>\n<t
 r><td>Jedermann</td>\n<td>15\,00 €</td></tr>\n<tr><td>Jugend A/B/Junio
 ren</td>\n<td>20\,00 €</td></tr>\n<tr><td>Sprint</td>\n<td>20\,00 €</t
 d></tr>\n<tr><td colspan=2><strong>Sonntag 24.6.2012 – Kurzdistanz</st
 rong></td></tr>\n<tr><td>Einzelwettbewerb\, incl. Tageslizenz (10\,- €
 )</td>\n<td>50\,00 €</td></tr>\n<tr><td>&#8211\; ab 1. Mai 2012\, incl
 . Tageslizenz (10\,- €)</td>\n<td>55\,00 €</td></tr>\n<tr><td>&#8211\;
  ab 1. Juni 2012\, incl. Tageslizenz (10\,- €)</td>\n<td>60\,00 €</td>
 </tr>\n<tr><td>Staffelwettbewerb</td>\n<td>70\,00 €</td></tr>\n<tr><td
 >&#8211\; ab 1. Mai 2012</td>\n<td>75\,00 €</td></tr>\n<tr><td>&#8211\
 ; ab 1. Juni 2012</td>\n<td>80\,00 €</td></tr>\n</tbody>\n</table>\n<p
 ><span style=text-decoration: underline\;>Ausschreibung:</span><br>\n<
 br>\n[wpfilebase tag=file path=&#8217\;triathlon/rothsee/20120624/2012
 0624_cadion_rothseetriathlon.pdf&#8216\; /]</p>\n<p>Aktuelle Info&#821
 7\;s und Onlineanmeldung auf der Seite des Veranstalters: <a href=http
 ://www.rothsee-triathlon.de/rstf target=_blank>Rothsee Triathlon</a></
 p>\n<p>Anmeldung für: <a href=http://www.rothsee-triathlon.de/rstf/tei
 lnehmerinfos/anmeldung-sonntag-rothsee-triathlon/ target=_blank>Sonnta
 g\, 24.06.2012</a></p>\n<p>Anmeldung für: <a href=http://www.rothsee-t
 riathlon.de/rstf/teilnehmerinfos/anmeldung-samstag-schuler-jugend-juni
 oren-schnupper-sprint/ target=_blank>Samstag\, 23.12.2012</a></p>\n
URL:https://www.runningsocks.de/wordpress/terminkalender/eventsinglepa
 ge/?event_id=99&lang=de
ATTACH:https://www.runningsocks.de/wordpress/terminkalender/eventsingl
 epage/?event_id=99&lang=de
LOCATION:Segelzentrum Heuberg\, Am Rothsee Heuberg\, Hilpoltstein
END:VEVENT
END:VCALENDAR
